BEGIN:VCALENDAR
VERSION:2.0
PRODID:-//Harvard Law School//NONSGML Events//EN
CALSCALE:GREGORIAN
X-WR-CALNAME:Harvard Law School - Events
X-ORIGINAL-URL:https://hls.harvard.edu/calendar/
X-WR-CALDESC:Harvard Law School - Events
BEGIN:VEVENT
UID:20251016T1901Z-1760641315.085-EO-728562-1@10.73.7.237
STATUS:CONFIRMED
DTSTAMP:20260423T140250Z
CREATED:20251016T185747Z
LAST-MODIFIED:20251016T185747Z
DTSTART;TZID=America/New_York:20251023T121500
DTEND;TZID=America/New_York:20251023T131500
SUMMARY: Merging Legal Tech: legal AI through the lens of two major busines
 s deals
DESCRIPTION: Startup founders Ed Walters and Phil Rosenthal merged their le
 gal research platform\, Fastcase\, with European legal provider vLex in 202
 3 — and then\, two years later\, led vLex in merging with legal management 
 tool Clio. Their success story puts them at the center of the sweeping chan
 ges AI is bringing to research\, client management\, and […]
X-ALT-DESC;FMTTYPE=text/html: <p><span style="font-weight: 400\;">Startup f
 ounders Ed Walters and Phil Rosenthal merged their legal research platform\
 , Fastcase\, with European legal provider vLex in 2023 — and then\, two yea
 rs later\, led vLex in merging with legal management tool Clio. Their succe
 ss story puts them at the center of the sweeping changes AI is bringing to 
 research\, client management\, and the practice of law. </span></p><p><span
  style="font-weight: 400\;">Join Walters and Rosenthal in a conversation wi
 th Library Innovation Lab director Jack Cushman to learn how their mission 
 to democratize access to law has found new opportunities in the age of AI.<
 /span></p>
CATEGORIES:Speaker/Panel
LOCATION:Lewis International Law Center\, Room 514 (5th Floor)
GEO:0.000000;0.000000
ORGANIZER;CN="Harmony Eidolon":MAILTO:heidolon@law.harvard.edu
URL;VALUE=URI:https://hls.harvard.edu/events/merging-legal-tech-legal-ai-th
 rough-the-lens-of-two-major-business-deals/
ATTACH;FMTTYPE=image/png:https://hls.harvard.edu/wp-content/uploads/2025/10/MergingLegalTech_Banner.png
END:VEVENT
BEGIN:VTIMEZONE
TZID:America/New_York
BEGIN:DAYLIGHT
TZOFFSETFROM:-0500
TZOFFSETTO:-0400
DTSTART:20250309T070000
TZNAME:EDT
END:DAYLIGHT
END:VTIMEZONE
END:VCALENDAR
