BEGIN:VCALENDAR
VERSION:2.0
PRODID:-//Harvard Law School//NONSGML Events//EN
CALSCALE:GREGORIAN
X-WR-CALNAME:Harvard Law School - Events
X-ORIGINAL-URL:https://hls.harvard.edu/calendar/
X-WR-CALDESC:Harvard Law School - Events
BEGIN:VEVENT
UID:20260419T2028Z-1776630484.2278-EO-748963-1@10.73.1.60
STATUS:CONFIRMED
DTSTAMP:20260421T035749Z
CREATED:20260419T173234Z
LAST-MODIFIED:20260419T173235Z
DTSTART;TZID=America/New_York:20260421T123000
DTEND;TZID=America/New_York:20260421T131500
SUMMARY: MENALSA HLR Panel
DESCRIPTION: Panel discussion for students interested in Harvard Law Review
 . Lunch will be provided
X-ALT-DESC;FMTTYPE=text/html: <p>Panel discussion for students interested i
 n Harvard Law Review. Lunch will be provided</p>
LOCATION:WCC\; 4059 Room
GEO:0;0
ORGANIZER;CN="API User":MAILTO:api@law.harvard.edu
URL;VALUE=URI:https://hls.harvard.edu/events/menalsa-hlr-panel/
END:VEVENT
BEGIN:VTIMEZONE
TZID:America/New_York
BEGIN:DAYLIGHT
TZOFFSETFROM:-0500
TZOFFSETTO:-0400
DTSTART:20260308T070000
TZNAME:EDT
END:DAYLIGHT
END:VTIMEZONE
END:VCALENDAR
