BEGIN:VCALENDAR
VERSION:2.0
PRODID:-//Harvard Law School//NONSGML Events//EN
CALSCALE:GREGORIAN
X-WR-CALNAME:Harvard Law School - Events
X-ORIGINAL-URL:https://hls.harvard.edu/calendar/
X-WR-CALDESC:Harvard Law School - Events
BEGIN:VEVENT
UID:20250312T1001Z-1741773685.5788-EO-693030-1@10.73.8.218
STATUS:CONFIRMED
DTSTAMP:20260424T103609Z
CREATED:20250310T201552Z
LAST-MODIFIED:20250321T173902Z
DTSTART;TZID=America/New_York:20250409T123000
DTEND;TZID=America/New_York:20250409T133000
SUMMARY: Meet the Judge: Judge Morgan Christen\, U.S. Court of Appeals for 
 the Ninth Circuit
DESCRIPTION: Wed\, Apr 9\, 12:30-1:15 pm\, on Zoom. Register through CSM (l
 imited to 20 RSVPs\, with wait list). Judge Morgan Christen\, from the U.S.
  Court of Appeals for the Ninth Circuit\, is based in Alaska\, which makes 
 her one of only a few federal judges authorized to hire non-US citizens for
  paid clerkships. Before joining the […]
X-ALT-DESC;FMTTYPE=text/html: <p>Wed\, Apr 9\, 12:30-1:15 pm\, on Zoom. <a 
 href="https://law-harvard-csm.symplicity.com/students/app/events?csm_event_
 type=workshop">Register through CSM</a> (limited to 20 RSVPs\, with wait li
 st).</p><p>Judge Morgan Christen\, from the U.S. Court of Appeals for the N
 inth Circuit\, is based in Alaska\, which makes her one of only a few feder
 al judges authorized to hire <strong>non-US citizens for paid clerkships</s
 trong>. Before joining the Ninth Circuit\, she previously was on the Alaska
  Supreme Court and Alaska Superior Court.</p><p>Hear from this judge about 
 her work and clerking and ask questions in a face-to-face\, small group set
 ting. Through your presence\, you can express interest that could help you 
 if you choose to apply for her clerkship in the future. Even if you are not
  interested in working for the particular judge\, simply learn more about l
 awyering\, judging\, and clerking\, which could help you with other judges.
  Attendees consent through their registration to the program being recorded
 . Both current students and alumni are welcome. You may eat your lunch whil
 e on mute on Zoom.</p><p>After graduation\, Judge Christen served as a law 
 clerk on the Alaska Superior Court before entering private practice. She th
 en served as a judge on the Alaska Superior Court and a justice on the Alas
 ka Supreme Court before her nomination to a seat on the Ninth Circuit.</p><
 p>Please <a href="https://law-harvard-csm.symplicity.com/students/app/event
 s?csm_event_type=workshop">RSVP in CSM</a> to receive the Zoom link.</p><p>
 Persons with disabilities who wish to request accommodations or who have qu
 estions about access\, please contact <a href="mailto:ocs@law.harvard.edu">
 ocs@law.harvard.edu</a> in advance of the event.</p>
CATEGORIES:Career Event
LOCATION:Zoom
GEO:40.712728;-74.006015
ORGANIZER;CN="Ashli J Black":MAILTO:ablack@law.harvard.edu
URL;VALUE=URI:https://hls.harvard.edu/events/meet-the-judge-judge-morgan-ch
 risten-u-s-court-of-appeals-for-the-ninth-circuit/
END:VEVENT
BEGIN:VTIMEZONE
TZID:America/New_York
BEGIN:DAYLIGHT
TZOFFSETFROM:-0500
TZOFFSETTO:-0400
DTSTART:20250309T070000
TZNAME:EDT
END:DAYLIGHT
END:VTIMEZONE
END:VCALENDAR
