BEGIN:VCALENDAR
VERSION:2.0
PRODID:-//Harvard Law School//NONSGML Events//EN
CALSCALE:GREGORIAN
X-WR-CALNAME:Harvard Law School - Events
X-ORIGINAL-URL:https://hls.harvard.edu/calendar/
X-WR-CALDESC:Harvard Law School - Events
BEGIN:VEVENT
UID:20250910T2206Z-1757541966.7674-EO-722329-1@10.73.0.97
STATUS:CONFIRMED
DTSTAMP:20260423T180908Z
CREATED:20250910T204233Z
LAST-MODIFIED:20260323T192325Z
DTSTART;TZID=America/New_York:20250924T121500
DTEND;TZID=America/New_York:20250924T133000
SUMMARY: Lunch Talk with Wasserstein Fellow Jonah Lalas
DESCRIPTION: Join APALSA and First Class to speak with Wasserstein fellow J
 onah Lalas about his journey as a first-generation\, Asian American labor l
 aw attorney!
X-ALT-DESC;FMTTYPE=text/html: <p>Join APALSA and First Class to speak with 
 Wasserstein fellow Jonah Lalas about his journey as a first-generation\, As
 ian American labor law attorney! </p>
LOCATION:WCC\; 3016 Room
GEO:0;0
ORGANIZER;CN="API User":MAILTO:api@law.harvard.edu
URL;VALUE=URI:https://hls.harvard.edu/events/lunch-talk-with-wasserstein-fe
 llow-jonah-lalas/
END:VEVENT
BEGIN:VTIMEZONE
TZID:America/New_York
BEGIN:DAYLIGHT
TZOFFSETFROM:-0500
TZOFFSETTO:-0400
DTSTART:20250309T070000
TZNAME:EDT
END:DAYLIGHT
END:VTIMEZONE
END:VCALENDAR
