BEGIN:VCALENDAR
VERSION:2.0
PRODID:-//Harvard Law School//NONSGML Events//EN
CALSCALE:GREGORIAN
X-WR-CALNAME:Harvard Law School - Events
X-ORIGINAL-URL:https://hls.harvard.edu/calendar/
X-WR-CALDESC:Harvard Law School - Events
BEGIN:VEVENT
UID:20251014T1853Z-1760468015.6725-EO-728039-1@10.73.0.4
STATUS:CONFIRMED
DTSTAMP:20260419T094704Z
CREATED:20251014T174733Z
LAST-MODIFIED:20260323T193752Z
DTSTART;TZID=America/New_York:20251030T122000
DTEND;TZID=America/New_York:20251030T132000
SUMMARY: Lunch Talk with Jordan Thomas\, author of When it All Burns
DESCRIPTION: Please join the Emmett Environmental Law & Policy Clinic for a
  lunch conversation with Jordan Thomas\, an anthropologist and former wildl
 and firefighter whose book When it All Burns is currently up for a National
  Book Award. In When it All Burns\, Jordan recounts a single\, brutal six-m
 onth fire season with the Los Padres Hotshots—the special […]
X-ALT-DESC;FMTTYPE=text/html: <p>Please join the Emmett Environmental Law &
  Policy Clinic for a lunch conversation with Jordan Thomas\, an anthropolog
 ist and former wildland firefighter whose book When it All Burns is current
 ly up for a National Book Award. In When it All Burns\, Jordan recounts a s
 ingle\, brutal six-month fire season with the Los Padres Hotshots—the speci
 al forces of America’s firefighters. Thomas viscerally renders his crew’s a
 ttempts to battle flames that are often too destructive to contain. He unco
 vers the hidden cultural history of megafires\, revealing how humanity’s sy
 mbiotic relationship with wildfire became a war—and what can be done to cha
 nge it back. Co-Sponsored by the HLS Environmental Law Society and the Harv
 ard Environmental Law Review.</p>
LOCATION:WCC\; 3038 V&amp\; E Room
GEO:0;0
ORGANIZER;CN="API User":MAILTO:api@law.harvard.edu
URL;VALUE=URI:https://hls.harvard.edu/events/lunch-talk-with-jordan-thomas-
 author-of-when-it-all-burns/
ATTACH;FMTTYPE=image/jpeg:https://hls.harvard.edu/wp-content/uploads/2025/10/Videoscreen-Copy-of-FINAL-Jordan-Thomas-Oct.-30-Poster.jpg
END:VEVENT
BEGIN:VTIMEZONE
TZID:America/New_York
BEGIN:DAYLIGHT
TZOFFSETFROM:-0500
TZOFFSETTO:-0400
DTSTART:20250309T070000
TZNAME:EDT
END:DAYLIGHT
END:VTIMEZONE
END:VCALENDAR
