BEGIN:VCALENDAR
VERSION:2.0
PRODID:-//Harvard Law School//NONSGML Events//EN
CALSCALE:GREGORIAN
X-WR-CALNAME:Harvard Law School - Events
X-ORIGINAL-URL:https://hls.harvard.edu/calendar/
X-WR-CALDESC:Harvard Law School - Events
BEGIN:VEVENT
UID:20241216T1732Z-1734370358.2019-EO-682068-1@10.73.10.108
STATUS:CONFIRMED
DTSTAMP:20260424T070051Z
CREATED:20241216T153249Z
LAST-MODIFIED:20241216T153249Z
DTSTART;TZID=America/New_York:20250114T120000
DTEND;TZID=America/New_York:20250114T130000
SUMMARY: LL.M. Series: Final Q&A for the Overseas-Trained LL.M. Interview P
 rogram
DESCRIPTION: The 2025 Overseas-Trained LL.M. Interview Program is coming up
  soon! The majority of the hour will be a Question & Answer session\, so pl
 ease come with all your remaining questions about the LL.M. job fair. Lunch
  will be served.   This program will be recorded and posted to the OCS webs
 ite.
X-ALT-DESC;FMTTYPE=text/html: <p>The 2025 Overseas-Trained LL.M. Interview 
 Program is coming up soon! The majority of the hour will be a Question & An
 swer session\, so please come with all your remaining questions about the L
 L.M. job fair. Lunch will be served.</p><p> </p><p><em>This program will be
  recorded and posted to the OCS website.</em></p>
CATEGORIES:Career Event
LOCATION:WCC 1010
GEO:0.000000;0.000000
ORGANIZER;CN="Ashli J Black":MAILTO:ablack@law.harvard.edu
URL;VALUE=URI:https://hls.harvard.edu/events/ll-m-series-final-qa-for-the-o
 verseas-trained-ll-m-interview-program/
END:VEVENT
BEGIN:VTIMEZONE
TZID:America/New_York
BEGIN:STANDARD
TZOFFSETFROM:-0400
TZOFFSETTO:-0500
DTSTART:20241103T060000
TZNAME:EST
END:STANDARD
END:VTIMEZONE
END:VCALENDAR
