BEGIN:VCALENDAR
VERSION:2.0
PRODID:-//Harvard Law School//NONSGML Events//EN
CALSCALE:GREGORIAN
X-WR-CALNAME:Harvard Law School - Events
X-ORIGINAL-URL:https://hls.harvard.edu/calendar/
X-WR-CALDESC:Harvard Law School - Events
BEGIN:VEVENT
UID:20260421T1817Z-1776795438.5064-EO-749306-1@10.73.1.60
STATUS:CONFIRMED
DTSTAMP:20260421T141718Z
CREATED:20260421T093344Z
LAST-MODIFIED:20260421T093344Z
DTSTART;TZID=America/New_York:20260423T190000
DTEND;TZID=America/New_York:20260423T223000
SUMMARY: LL.M. Karaoke Night! HLS Pub from 7pm
DESCRIPTION: With classes finishing this week (say it ain’t so!)\, your LL.
 M. Marshals are very excited to invite the LL.M. Class of 2026 to join for 
 a night of food\, drinks\, and karaoke together in HLS Pub next Thursday 23
 rd April\, kicking off at 7pm. All voices welcome\, prior singing experienc
 e emphatically not required!
X-ALT-DESC;FMTTYPE=text/html: <p class="p1">With classes finishing this wee
 k (say it ain't so!)\, your LL.M. Marshals are very excited to invite the L
 L.M. Class of 2026 to join for a night of <b>food\, drinks\, and karaoke to
 gether in HLS Pub next Thursday 23rd April\, kicking off at 7pm</b>. All vo
 ices welcome\, prior singing experience emphatically not required!</p>
CATEGORIES:Reception
LOCATION:HLS Pub
GEO:0.000000;0.000000
ORGANIZER;CN="Ronan Mc Gurrin":MAILTO:rmcgurrin@llm26.law.harvard.edu
URL;VALUE=URI:https://hls.harvard.edu/events/ll-m-karaoke-night-hls-pub-fro
 m-7pm/
END:VEVENT
BEGIN:VTIMEZONE
TZID:America/New_York
BEGIN:DAYLIGHT
TZOFFSETFROM:-0500
TZOFFSETTO:-0400
DTSTART:20260308T070000
TZNAME:EDT
END:DAYLIGHT
END:VTIMEZONE
END:VCALENDAR
