BEGIN:VCALENDAR
VERSION:2.0
PRODID:-//Harvard Law School//NONSGML Events//EN
CALSCALE:GREGORIAN
X-WR-CALNAME:Harvard Law School - Events
X-ORIGINAL-URL:https://hls.harvard.edu/calendar/
X-WR-CALDESC:Harvard Law School - Events
BEGIN:VEVENT
UID:20251013T1642Z-1760373737.6656-EO-727925-1@10.73.7.213
STATUS:CONFIRMED
DTSTAMP:20260423T135831Z
CREATED:20251013T162503Z
LAST-MODIFIED:20251014T132002Z
DTSTART;TZID=America/New_York:20251023T122000
DTEND;TZID=America/New_York:20251023T131500
SUMMARY: Litigation vs. Corporate: How Are They Different?
DESCRIPTION: Join First Class for a conversation with attorneys from multip
 le law firms as they dive into what corporate and litigation work entails a
 nd how their day-to-day differs based on the area they work in.
X-ALT-DESC;FMTTYPE=text/html: <p>Join First Class for a conversation with a
 ttorneys from multiple law firms as they dive into what corporate and litig
 ation work entails and how their day-to-day differs based on the area they 
 work in.</p>
LOCATION:WCC\; B015 Classroom
GEO:0;0
ORGANIZER;CN="API User":MAILTO:api@law.harvard.edu
URL;VALUE=URI:https://hls.harvard.edu/events/litigation-vs-corporate-how-ar
 e-they-different/
END:VEVENT
BEGIN:VTIMEZONE
TZID:America/New_York
BEGIN:DAYLIGHT
TZOFFSETFROM:-0500
TZOFFSETTO:-0400
DTSTART:20250309T070000
TZNAME:EDT
END:DAYLIGHT
END:VTIMEZONE
END:VCALENDAR
