BEGIN:VCALENDAR
VERSION:2.0
PRODID:-//Harvard Law School//NONSGML Events//EN
CALSCALE:GREGORIAN
X-WR-CALNAME:Harvard Law School - Events
X-ORIGINAL-URL:https://hls.harvard.edu/calendar/
X-WR-CALDESC:Harvard Law School - Events
BEGIN:VEVENT
UID:20250213T1628Z-1739464088.2959-EO-689455-1@10.73.10.108
STATUS:CONFIRMED
DTSTAMP:20260423T083346Z
CREATED:20250213T145045Z
LAST-MODIFIED:20250225T214253Z
DTSTART;TZID=America/New_York:20250308T133000
DTEND;TZID=America/New_York:20250308T153000
SUMMARY: Litigation Roundtable
DESCRIPTION: Interested in working at a litigation-focused firm? Come to th
 e Litigation Roundtable! Attorneys from several litigation or trial focused
  firms will be present and students will have a chance to ask questions and
  make connections with attorneys from all firms! Firms attending: AZA\, Coo
 ley\, DLA Piper\, Milbank\, Proskauer\, Quinn Emanuel\, Ropes & Gray\, Sele
 ndy Gay\, […]
X-ALT-DESC;FMTTYPE=text/html: <p>Interested in working at a litigation-focu
 sed firm? Come to the Litigation Roundtable! Attorneys from several litigat
 ion or trial focused firms will be present and students will have a chance 
 to ask questions and make connections with attorneys from all firms!</p><p>
 <em><strong>Firms attending: AZA\, Cooley\, DLA Piper\, Milbank\, Proskauer
 \, Quinn Emanuel\, Ropes & Gray\, Selendy Gay\, Yetter Coleman</strong></em
 ></p><p>Hosted by HLS Mock Trial\; all are welcome!</p><p>Coffee and refres
 hments will be provided!</p><p><em><strong>Please register here!</strong></
 em> <a href="https://tinyurl.com/litigationroundtable">https://tinyurl.com/
 litigationroundtable</a></p>
CATEGORIES:Career Event
ORGANIZER;CN="Hudson Patterson":MAILTO:hpatterson@jd26.law.harvard.edu
URL;VALUE=URI:https://hls.harvard.edu/events/litigation-roundtable/
ATTACH;FMTTYPE=image/png:https://hls.harvard.edu/wp-content/uploads/2025/02/LRPoster-Revised.png
END:VEVENT
BEGIN:VTIMEZONE
TZID:America/New_York
BEGIN:STANDARD
TZOFFSETFROM:-0400
TZOFFSETTO:-0500
DTSTART:20241103T060000
TZNAME:EST
END:STANDARD
END:VTIMEZONE
END:VCALENDAR
