BEGIN:VCALENDAR
VERSION:2.0
PRODID:-//Harvard Law School//NONSGML Events//EN
CALSCALE:GREGORIAN
X-WR-CALNAME:Harvard Law School - Events
X-ORIGINAL-URL:https://hls.harvard.edu/calendar/
X-WR-CALDESC:Harvard Law School - Events
BEGIN:VEVENT
UID:20250908T2354Z-1757375658.8564-EO-721587-1@10.73.5.249
STATUS:CONFIRMED
DTSTAMP:20260423T142358Z
CREATED:20250908T162640Z
LAST-MODIFIED:20250908T162640Z
DTSTART;TZID=America/New_York:20250915T180000
DTEND;TZID=America/New_York:20250915T193000
RDATE;TZID=America/New_York:20250922T180000
SUMMARY: Lindy Hop Club Dance Night
DESCRIPTION: Harvard University presents: Lindy Hop Social 6pm-sunset in th
 e Science Center Plaza Tent All are welcome to join us for a fun night of d
 ancing! For more information\, please email: harvardlindyhop@gmail.com
X-ALT-DESC;FMTTYPE=text/html: <p>Harvard University presents: Lindy Hop Soc
 ial</p><p>6pm-sunset in the Science Center Plaza Tent</p><p>All are welcome
  to join us for a fun night of dancing!</p><p>For more information\, please
  email: <a href="mailto:harvardlindyhop@gmail.com" data-cke-saved-href="mai
 lto:harvardlindyhop@gmail.com">harvardlindyhop@gmail.com</a></p>
LOCATION:Science Center Plaza
GEO:0.000000;0.000000
ORGANIZER;CN="Kayla Kaszyca":MAILTO:kkaszyca@law.harvard.edu
URL;VALUE=URI:https://hls.harvard.edu/events/lindy-hop-club-dance-night/
ATTACH;FMTTYPE=image/png:https://hls.harvard.edu/wp-content/uploads/2025/09/GetEventLogo-2.png
END:VEVENT
BEGIN:VEVENT
UID:20250908T2354Z-1757375658.8564-EO-721587-1@10.73.5.249
STATUS:CONFIRMED
DTSTAMP:20260423T142358Z
CREATED:20250908T162640Z
LAST-MODIFIED:20250908T162640Z
DTSTART;TZID=America/New_York:20250915T180000
DTEND;TZID=America/New_York:20250915T193000
RDATE;TZID=America/New_York:20250922T180000
SUMMARY: Lindy Hop Club Dance Night
DESCRIPTION: Harvard University presents: Lindy Hop Social 6pm-sunset in th
 e Science Center Plaza Tent All are welcome to join us for a fun night of d
 ancing! For more information\, please email: harvardlindyhop@gmail.com
X-ALT-DESC;FMTTYPE=text/html: <p>Harvard University presents: Lindy Hop Soc
 ial</p><p>6pm-sunset in the Science Center Plaza Tent</p><p>All are welcome
  to join us for a fun night of dancing!</p><p>For more information\, please
  email: <a href="mailto:harvardlindyhop@gmail.com" data-cke-saved-href="mai
 lto:harvardlindyhop@gmail.com">harvardlindyhop@gmail.com</a></p>
LOCATION:Science Center Plaza
GEO:0.000000;0.000000
ORGANIZER;CN="Kayla Kaszyca":MAILTO:kkaszyca@law.harvard.edu
URL;VALUE=URI:https://hls.harvard.edu/events/lindy-hop-club-dance-night/
ATTACH;FMTTYPE=image/png:https://hls.harvard.edu/wp-content/uploads/2025/09/GetEventLogo-2.png
END:VEVENT
BEGIN:VTIMEZONE
TZID:America/New_York
BEGIN:DAYLIGHT
TZOFFSETFROM:-0500
TZOFFSETTO:-0400
DTSTART:20250309T070000
TZNAME:EDT
END:DAYLIGHT
END:VTIMEZONE
END:VCALENDAR
