BEGIN:VCALENDAR
VERSION:2.0
PRODID:-//Harvard Law School//NONSGML Events//EN
CALSCALE:GREGORIAN
X-WR-CALNAME:Harvard Law School - Events
X-ORIGINAL-URL:https://hls.harvard.edu/calendar/
X-WR-CALDESC:Harvard Law School - Events
BEGIN:VEVENT
UID:20251109T2025Z-1762719945.884-EO-731915-1@10.73.7.213
STATUS:CONFIRMED
DTSTAMP:20260424T002453Z
CREATED:20251109T185504Z
LAST-MODIFIED:20251110T171003Z
DTSTART;TZID=America/New_York:20251113T123000
DTEND;TZID=America/New_York:20251113T130000
SUMMARY: Life at an IP Boutique: IPLA x McKool Smith
DESCRIPTION: Please join IPLA for a lunch panel with attorneys from McKool 
 Smith\, who will speak about their experience as trial lawyers at an IP Bou
 tique with a national platform.
X-ALT-DESC;FMTTYPE=text/html: <p>Please join IPLA for a lunch panel with at
 torneys from McKool Smith\, who will speak about their experience as trial 
 lawyers at an IP Boutique with a national platform.</p>
LOCATION:WCC\; 1023 Classroom
GEO:0;0
ORGANIZER;CN="API User":MAILTO:api@law.harvard.edu
URL;VALUE=URI:https://hls.harvard.edu/events/life-at-an-ip-boutique-ipla-x-
 mckool-smith/
END:VEVENT
BEGIN:VTIMEZONE
TZID:America/New_York
BEGIN:STANDARD
TZOFFSETFROM:-0400
TZOFFSETTO:-0500
DTSTART:20251102T060000
TZNAME:EST
END:STANDARD
END:VTIMEZONE
END:VCALENDAR
