BEGIN:VCALENDAR
VERSION:2.0
PRODID:-//Harvard Law School//NONSGML Events//EN
CALSCALE:GREGORIAN
X-WR-CALNAME:Harvard Law School - Events
X-ORIGINAL-URL:https://hls.harvard.edu/calendar/
X-WR-CALDESC:Harvard Law School - Events
BEGIN:VEVENT
UID:20250902T0030Z-1756773041.814-EO-719769-1@10.73.5.249
STATUS:CONFIRMED
DTSTAMP:20260423T155823Z
CREATED:20250901T193854Z
LAST-MODIFIED:20250901T193854Z
DTSTART;TZID=America/New_York:20250923T083000
DTEND;TZID=America/New_York:20250923T093000
SUMMARY: Library Tours for New JDs & Visitors
DESCRIPTION: Welcome to HLS Library! Join us for a 25-minute tour of librar
 y spaces and learn about library services available to you. The tour will b
 egin at the circulation desk in the main lobby. Attendees can opt to stay f
 or a 15-minute sit-down introduction to accessing Harvard research collecti
 ons and databases. The tour is aimed at new […]
X-ALT-DESC;FMTTYPE=text/html: <p>Welcome to HLS Library! Join us for a 25-m
 inute tour of library spaces and learn about library services available to 
 you. The tour will begin at the circulation desk in the main lobby. Attende
 es can opt to stay for a 15-minute sit-down introduction to accessing Harva
 rd research collections and databases.</p><p>The tour is aimed at new JDs b
 ut new HLS affiliates are welcome to join. Registration is required. Each t
 our is limited to 15.</p>
CATEGORIES:Information Session
LOCATION:Harvard Law School Library Langdell Circulation Desk
GEO:0.000000;0.000000
ORGANIZER;CN="Michelle Pearse":MAILTO:mpearse@law.harvard.edu
URL;VALUE=URI:https://hls.harvard.edu/events/library-tours-for-new-jds-visi
 tors-2/
END:VEVENT
BEGIN:VTIMEZONE
TZID:America/New_York
BEGIN:DAYLIGHT
TZOFFSETFROM:-0500
TZOFFSETTO:-0400
DTSTART:20250309T070000
TZNAME:EDT
END:DAYLIGHT
END:VTIMEZONE
END:VCALENDAR
