BEGIN:VCALENDAR
VERSION:2.0
PRODID:-//Harvard Law School//NONSGML Events//EN
CALSCALE:GREGORIAN
X-WR-CALNAME:Harvard Law School - Events
X-ORIGINAL-URL:https://hls.harvard.edu/calendar/
X-WR-CALDESC:Harvard Law School - Events
BEGIN:VEVENT
UID:20250903T1310Z-1756905002.3923-EO-720313-1@10.73.0.97
STATUS:CONFIRMED
DTSTAMP:20260423T210458Z
CREATED:20250902T204844Z
LAST-MODIFIED:20251005T233930Z
DTSTART;TZID=America/New_York:20251006T123000
DTEND;TZID=America/New_York:20251006T131500
SUMMARY: Let’s Talk About Money: Demystifying Public Interest Salaries
DESCRIPTION: Excited about public interest work but concerned about how you
  will manage loan repayment or other financial considerations? Hear from a 
 panel of public interest alumni as they candidly share their experiences pa
 rticipating in the Low -Income Protection Plan (LIPP) and discuss their lif
 estyles on public interest salaries (no\, they don’t eat ramen noodles ever
 y day). Catherine Pattanayak\, Assistant Dean for Public Service\, and Katy
  Harger\, Assistant Director for the Low -Income Protection Plan and Public
  Interest Funding\, will moderate and answer your questions.
X-ALT-DESC;FMTTYPE=text/html: <p>Excited about public interest work but con
 cerned about how you will manage loan repayment or other financial consider
 ations? Hear from a panel of public interest alumni as they candidly share 
 their experiences participating in the Low -Income Protection Plan (LIPP) a
 nd discuss their lifestyles on public interest salaries (no\, they don’t ea
 t ramen noodles every day). Catherine Pattanayak\, Assistant Dean for Publi
 c Service\, and Katy Harger\, Assistant Director for the Low -Income Protec
 tion Plan and Public Interest Funding\, will moderate and answer your quest
 ions.</p><p>Lunch provided. Please RSVP below.</p><p>This is a hybrid event
 . Panelists will be participating virtually.</p><p>Audience: Students from 
 all class years considering public interest employment are encouraged to at
 tend.</p><p>If you or an event participant requires disability-related acco
 mmodations\, please contact HLS Accessibility Services at <a href="mailto:a
 ccessibility@law.harvard.edu">accessibility@law.harvard.edu</a> two weeks i
 n advance of the event.</p>
CATEGORIES:Career Event,OPIA Events,Speaker/Panel
LOCATION:WCC\; 2012 Classroom
GEO:0;0
ORGANIZER;CN="Micah Nemiroff":MAILTO:mnemiroff@law.harvard.edu
URL;VALUE=URI:https://hls.harvard.edu/events/lets-talk-about-money-demystif
 ying-public-interest-salaries/
END:VEVENT
BEGIN:VTIMEZONE
TZID:America/New_York
BEGIN:DAYLIGHT
TZOFFSETFROM:-0500
TZOFFSETTO:-0400
DTSTART:20250309T070000
TZNAME:EDT
END:DAYLIGHT
END:VTIMEZONE
END:VCALENDAR
