BEGIN:VCALENDAR
VERSION:2.0
PRODID:-//Harvard Law School//NONSGML Events//EN
CALSCALE:GREGORIAN
X-WR-CALNAME:Harvard Law School - Events
X-ORIGINAL-URL:https://hls.harvard.edu/calendar/
X-WR-CALDESC:Harvard Law School - Events
BEGIN:VEVENT
UID:20250925T0054Z-1758761668.0621-EO-724191-1@10.73.9.45
STATUS:CONFIRMED
DTSTAMP:20260424T035106Z
CREATED:20250922T195547Z
LAST-MODIFIED:20250922T195547Z
DTSTART;TZID=America/New_York:20251001T173000
DTEND;TZID=America/New_York:20251001T193000
SUMMARY: Law & Social Change Community Gathering
DESCRIPTION: The Law & Social Change Program of Study aims to build communi
 ty among social-change minded students on campus and provide academic and p
 rofessional support for those pursuing PI careers. We are excited to welcom
 e 1Ls to the program and create a space for older students to re-connect. W
 e’ll be offering a preview of other L&SC […]
X-ALT-DESC;FMTTYPE=text/html: <p>The Law & Social Change Program of Study a
 ims to build community among social-change minded students on campus and pr
 ovide academic and professional support for those pursuing PI careers. We a
 re excited to welcome 1Ls to the program and create a space for older stude
 nts to re-connect. We'll be offering a preview of other L&SC events and ini
 tiatives throughout the year and also seeking feedback on how best to suppo
 rt PI students! <strong>Dinner will be provided. </strong> P<strong>lease R
 SVP here: </strong>https://forms.gle/uNXezDVcCpjDXtho7</p>
CATEGORIES:Social Event
LOCATION:WCC 3019
GEO:0.000000;0.000000
ORGANIZER;CN="Liana Wang":MAILTO:lwang@jd26.law.harvard.edu
URL;VALUE=URI:https://hls.harvard.edu/events/law-social-change-community-ga
 thering/
END:VEVENT
BEGIN:VTIMEZONE
TZID:America/New_York
BEGIN:DAYLIGHT
TZOFFSETFROM:-0500
TZOFFSETTO:-0400
DTSTART:20250309T070000
TZNAME:EDT
END:DAYLIGHT
END:VTIMEZONE
END:VCALENDAR
