BEGIN:VCALENDAR
VERSION:2.0
PRODID:-//Harvard Law School//NONSGML Events//EN
CALSCALE:GREGORIAN
X-WR-CALNAME:Harvard Law School - Events
X-ORIGINAL-URL:https://hls.harvard.edu/calendar/
X-WR-CALDESC:Harvard Law School - Events
BEGIN:VEVENT
UID:20260420T1853Z-1776711200.8539-EO-749144-1@10.73.0.38
STATUS:CONFIRMED
DTSTAMP:20260420T145320Z
CREATED:20260420T174458Z
LAST-MODIFIED:20260420T174458Z
DTSTART;TZID=America/New_York:20260424T160000
DTEND;TZID=America/New_York:20260424T170000
SUMMARY: Last Day of Classes 5k
DESCRIPTION: Please join the Harvard Law Run Club and HLS Student Governmen
 t for our annual Last Day of Classes 5k. The run will begin from “Run Club 
 Plaza” (outside the WCC in between Casperson\, Langdell\, and Hauser) at 4 
 pm. All paces are welcome! Feel free to sprint\, jog\, or walk the course a
 nd enjoy snacks […]
X-ALT-DESC;FMTTYPE=text/html: <p>Please join the Harvard Law Run Club and H
 LS Student Government for our annual Last Day of Classes 5k. The run will b
 egin from "Run Club Plaza" (outside the WCC in between Casperson\, Langdell
 \, and Hauser) at 4 pm. All paces are welcome! Feel free to sprint\, jog\, 
 or walk the course and enjoy snacks at the conclusion of the run.</p>
CATEGORIES:Social Event
LOCATION:Kumble Plaza
GEO:0.000000;0.000000
ORGANIZER;CN="Jack Neary":MAILTO:jneary@jd26.law.harvard.edu
URL;VALUE=URI:https://hls.harvard.edu/events/last-day-of-classes-5k/
ATTACH;FMTTYPE=image/jpeg:https://hls.harvard.edu/wp-content/uploads/2026/04/Last-day-of-classes-2.jpeg
END:VEVENT
BEGIN:VTIMEZONE
TZID:America/New_York
BEGIN:DAYLIGHT
TZOFFSETFROM:-0500
TZOFFSETTO:-0400
DTSTART:20260308T070000
TZNAME:EDT
END:DAYLIGHT
END:VTIMEZONE
END:VCALENDAR
