BEGIN:VCALENDAR
VERSION:2.0
PRODID:-//Harvard Law School//NONSGML Events//EN
CALSCALE:GREGORIAN
X-WR-CALNAME:Harvard Law School - Events
X-ORIGINAL-URL:https://hls.harvard.edu/calendar/
X-WR-CALDESC:Harvard Law School - Events
BEGIN:VEVENT
UID:20260107T2038Z-1767818290.5935-EO-736529-1@10.73.0.4
STATUS:CONFIRMED
DTSTAMP:20260421T090905Z
CREATED:20260107T150746Z
LAST-MODIFIED:20260107T150746Z
DTSTART;TZID=America/New_York:20260129T190000
DTEND;TZID=America/New_York:20260129T210000
SUMMARY: La Alianza Firm Reception
DESCRIPTION: La Alianza is excited to announce that its annual Firm Recepti
 on will take place on Jan. 29\, 2026\, from 7:00 pm–9:00 pm at Barcelona Wi
 ne Bar. Attorneys from nine law firms are expected to be in attendance\, so
  this will be a great opportunity to network while enjoying the company of 
 La Alianza—and Barcelona’s hors […]
X-ALT-DESC;FMTTYPE=text/html: <div class="Qr7Oae" role="listitem"><div clas
 s="OxAavc NVbRL" data-required="true" data-item-id="886651857"><div class="
 Ih4Dzb"><div class="q4tvle JqSWld yqQS1" role="textbox" aria-label="Provide
  a brief summary of your event">La Alianza is excited to announce that its 
 annual Firm Reception will take place on Jan. 29\, 2026\, from 7:00 pm–9:00
  pm at Barcelona Wine Bar. Attorneys from nine law firms are expected to be
  in attendance\, so this will be a great opportunity to network while enjoy
 ing the company of La Alianza—and Barcelona’s hors d'oeuvres and open bar. 
 This event is open to members and friends of La Alianza (in the past\, we’v
 e had great attendance from 2Ls and 3Ls)\, though if space becomes limited\
 , La Alianza 1Ls and LLMs will be prioritized. Please RSVP here: https://fo
 rms.gle/7u7ULStuZGziyTf98</div><div role="textbox" aria-label="Provide a br
 ief summary of your event"></div></div></div></div><div class="Qr7Oae" role
 ="listitem"><div class="OxAavc NVbRL" data-required="true" data-item-id="46
 712224"><div class="pYfr3c"><div class="prOLdf"><div class="g53bl"><div cla
 ss="cTDvob D1wxyf RjsPE" role="heading" aria-describedby="i.desc.46712224 c
 199"></div></div></div></div></div></div>
CATEGORIES:Career Event
LOCATION:Barcelona Wine Bar
GEO:0.000000;0.000000
ORGANIZER;CN="Pablo Manon Mateos":MAILTO:pmanonmateos@jd26.law.harvard.edu
URL;VALUE=URI:https://hls.harvard.edu/events/la-alianza-firm-reception/
ATTACH;FMTTYPE=image/png:https://hls.harvard.edu/wp-content/uploads/2026/01/La-Alianza-Firm-Reception.png
END:VEVENT
BEGIN:VTIMEZONE
TZID:America/New_York
BEGIN:STANDARD
TZOFFSETFROM:-0400
TZOFFSETTO:-0500
DTSTART:20251102T060000
TZNAME:EST
END:STANDARD
END:VTIMEZONE
END:VCALENDAR
