BEGIN:VCALENDAR
VERSION:2.0
PRODID:-//Harvard Law School//NONSGML Events//EN
CALSCALE:GREGORIAN
X-WR-CALNAME:Harvard Law School - Events
X-ORIGINAL-URL:https://hls.harvard.edu/calendar/
X-WR-CALDESC:Harvard Law School - Events
BEGIN:VEVENT
UID:20250908T2354Z-1757375659.5059-EO-721653-1@10.73.8.255
STATUS:CONFIRMED
DTSTAMP:20260423T223950Z
CREATED:20250908T183738Z
LAST-MODIFIED:20251029T195003Z
DTSTART;TZID=America/New_York:20251030T180000
DTEND;TZID=America/New_York:20251030T200000
SUMMARY: Knits & Writs: Weekly Fiber Arts Night at HLS
X-ALT-DESC;FMTTYPE=text/html: 
LOCATION:Hauser Hall\; 102 Malkin Classroom
GEO:0;0
ORGANIZER;CN="API User":MAILTO:api@law.harvard.edu
URL;VALUE=URI:https://hls.harvard.edu/events/knits-writs-weekly-fiber-arts-
 night-at-hls-7/
END:VEVENT
BEGIN:VTIMEZONE
TZID:America/New_York
BEGIN:DAYLIGHT
TZOFFSETFROM:-0500
TZOFFSETTO:-0400
DTSTART:20250309T070000
TZNAME:EDT
END:DAYLIGHT
END:VTIMEZONE
END:VCALENDAR
