BEGIN:VCALENDAR
VERSION:2.0
PRODID:-//Harvard Law School//NONSGML Events//EN
CALSCALE:GREGORIAN
X-WR-CALNAME:Harvard Law School - Events
X-ORIGINAL-URL:https://hls.harvard.edu/calendar/
X-WR-CALDESC:Harvard Law School - Events
BEGIN:VEVENT
UID:20250930T2250Z-1759272634.7802-EO-725489-1@10.73.7.237
STATUS:CONFIRMED
DTSTAMP:20260424T115736Z
CREATED:20250930T154503Z
LAST-MODIFIED:20250930T154504Z
DTSTART;TZID=America/New_York:20251106T180000
DTEND;TZID=America/New_York:20251106T200000
SUMMARY: Knits & Writs: Weekly Fiber Arts Night at HLS
X-ALT-DESC;FMTTYPE=text/html: 
LOCATION:Pound Hall\; 101 Ballantine Classroom
GEO:0;0
ORGANIZER;CN="API User":MAILTO:api@law.harvard.edu
URL;VALUE=URI:https://hls.harvard.edu/events/knits-writs-weekly-fiber-arts-
 night-at-hls-13/
END:VEVENT
BEGIN:VTIMEZONE
TZID:America/New_York
BEGIN:STANDARD
TZOFFSETFROM:-0400
TZOFFSETTO:-0500
DTSTART:20251102T060000
TZNAME:EST
END:STANDARD
END:VTIMEZONE
END:VCALENDAR
