BEGIN:VCALENDAR
VERSION:2.0
PRODID:-//Harvard Law School//NONSGML Events//EN
CALSCALE:GREGORIAN
X-WR-CALNAME:Harvard Law School - Events
X-ORIGINAL-URL:https://hls.harvard.edu/calendar/
X-WR-CALDESC:Harvard Law School - Events
BEGIN:VEVENT
UID:20250910T2206Z-1757541967.4012-EO-722332-1@10.73.8.255
STATUS:CONFIRMED
DTSTAMP:20260423T142740Z
CREATED:20250910T205233Z
LAST-MODIFIED:20260323T211511Z
DTSTART;TZID=America/New_York:20250922T121500
DTEND;TZID=America/New_York:20250922T131500
SUMMARY: Justice Goodwin Liu: A Portrait of Asian Americans in the Law
DESCRIPTION: Join Justice Goodwin H. Liu of the California Supreme Court in
  conversation about A Portrait of Asian Americans in the Law 2.0: Identity 
 and Action in Challenging Times. This study canvasses Asian American attorn
 eys for insights into law school enrollment\, career advancement\, and poli
 tical participation. Authors researched diversity in the legal profession\,
  conducted surveys of […]
X-ALT-DESC;FMTTYPE=text/html: <p>Join Justice Goodwin H. Liu of the Califor
 nia Supreme Court in conversation about A Portrait of Asian Americans in th
 e Law 2.0: Identity and Action in Challenging Times. </p><p>This study canv
 asses Asian American attorneys for insights into law school enrollment\, ca
 reer advancement\, and political participation. Authors researched diversit
 y in the legal profession\, conducted surveys of Asian American attorneys\,
  and led focus groups with Asian American lawyers to gain insights.</p>
LOCATION:WCC\; 1023 Classroom
GEO:0;0
ORGANIZER;CN="API User":MAILTO:api@law.harvard.edu
URL;VALUE=URI:https://hls.harvard.edu/events/justice-goodwin-liu-a-portrait
 -of-asian-americans-in-the-law/
END:VEVENT
BEGIN:VTIMEZONE
TZID:America/New_York
BEGIN:DAYLIGHT
TZOFFSETFROM:-0500
TZOFFSETTO:-0400
DTSTART:20250309T070000
TZNAME:EDT
END:DAYLIGHT
END:VTIMEZONE
END:VCALENDAR
