BEGIN:VCALENDAR
VERSION:2.0
PRODID:-//Harvard Law School//NONSGML Events//EN
CALSCALE:GREGORIAN
X-WR-CALNAME:Harvard Law School - Events
X-ORIGINAL-URL:https://hls.harvard.edu/calendar/
X-WR-CALDESC:Harvard Law School - Events
BEGIN:VEVENT
UID:20250925T1408Z-1758809337.7271-EO-724583-1@10.73.0.41
STATUS:CONFIRMED
DTSTAMP:20260423T193416Z
CREATED:20250924T193503Z
LAST-MODIFIED:20260127T155340Z
DTSTART;TZID=America/New_York:20250925T121500
DTEND;TZID=America/New_York:20250925T133000
SUMMARY: JudgeTatel Book Talk: Vision
DESCRIPTION: Judge David S. Tatel\, D.C. Circuit Judge (Ret.) and Civil Rig
 hts Lawyer\, will be discussing his book\, Vision: A Memoir of Blindness an
 d Justice\, on Thursday\, September 25\, 12:30pm-1:15pm in 2036 Milstein Ea
 st B. Lunch will be available. Hosted by Professor Martha Minow and Profess
 or Jim Greiner.
X-ALT-DESC;FMTTYPE=text/html: <p>Judge David S. Tatel\, D.C. Circuit Judge 
 (Ret.) and Civil Rights Lawyer\, will be discussing his book\, Vision: A Me
 moir of Blindness and Justice\, on Thursday\, September 25\, 12:30pm-1:15pm
  in 2036 Milstein East B. Lunch will be available.</p><p>Hosted by Professo
 r Martha Minow and Professor Jim Greiner.</p>
LOCATION:WCC\; Outside 2036 Milstein East
GEO:0;0
ORGANIZER;CN="API User":MAILTO:api@law.harvard.edu
URL;VALUE=URI:https://hls.harvard.edu/events/judgetatel-book-talk-vision/
END:VEVENT
BEGIN:VTIMEZONE
TZID:America/New_York
BEGIN:DAYLIGHT
TZOFFSETFROM:-0500
TZOFFSETTO:-0400
DTSTART:20250309T070000
TZNAME:EDT
END:DAYLIGHT
END:VTIMEZONE
END:VCALENDAR
