BEGIN:VCALENDAR
VERSION:2.0
PRODID:-//Harvard Law School//NONSGML Events//EN
CALSCALE:GREGORIAN
X-WR-CALNAME:Harvard Law School - Events
X-ORIGINAL-URL:https://hls.harvard.edu/calendar/
X-WR-CALDESC:Harvard Law School - Events
BEGIN:VEVENT
UID:20250326T1552Z-1743004335.8651-EO-696496-1@10.73.10.94
STATUS:CONFIRMED
DTSTAMP:20260423T225055Z
CREATED:20250326T015502Z
LAST-MODIFIED:20260323T192458Z
DTSTART;TZID=America/New_York:20250403T123000
DTEND;TZID=America/New_York:20250403T131500
SUMMARY: JOLT x Sujit Raman: Technology & National Security in an Age of Gr
 eat Power Competition
DESCRIPTION: Join JOLT for an exciting lunch talk with Sujit Raman\, an HLS
  alum who serves as the Chief Legal Officer of TRM Labs\, a blockchain inte
 lligence firm. Previously\, he oversaw cyber investigations as an Associate
  Deputy Attorney General at the DOJ. Mr. Raman will talk about his career p
 ath and share insights he has gained […]
X-ALT-DESC;FMTTYPE=text/html: <p>Join JOLT for an exciting lunch talk with 
 Sujit Raman\, an HLS alum who serves as the Chief Legal Officer of TRM Labs
 \, a blockchain intelligence firm. Previously\, he oversaw cyber investigat
 ions as an Associate Deputy Attorney General at the DOJ.</p><p>Mr. Raman wi
 ll talk about his career path and share insights he has gained as an in-hou
 se tech lawyer navigating critical national security issues—including gover
 nment access to data\, supply chain security\, AI adoption\, compliance wit
 h different privacy law regimes\, and more. </p><p>RSVP: https://forms.gle/
 sfx9pqdUVZ37hRXb6</p>
LOCATION:WCC\; 3019 Classroom
GEO:0;0
ORGANIZER;CN="API User":MAILTO:api@law.harvard.edu
URL;VALUE=URI:https://hls.harvard.edu/events/jolt-x-sujit-raman-technology-
 national-security-in-an-age-of-great-power-competition/
END:VEVENT
BEGIN:VTIMEZONE
TZID:America/New_York
BEGIN:DAYLIGHT
TZOFFSETFROM:-0500
TZOFFSETTO:-0400
DTSTART:20250309T070000
TZNAME:EDT
END:DAYLIGHT
END:VTIMEZONE
END:VCALENDAR
