BEGIN:VCALENDAR
VERSION:2.0
PRODID:-//Harvard Law School//NONSGML Events//EN
CALSCALE:GREGORIAN
X-WR-CALNAME:Harvard Law School - Events
X-ORIGINAL-URL:https://hls.harvard.edu/calendar/
X-WR-CALDESC:Harvard Law School - Events
BEGIN:VEVENT
UID:20251009T2329Z-1760052597.1006-EO-727704-1@10.73.7.213
STATUS:CONFIRMED
DTSTAMP:20260421T130136Z
CREATED:20251009T225502Z
LAST-MODIFIED:20251010T122232Z
DTSTART;TZID=America/New_York:20251028T123000
DTEND;TZID=America/New_York:20251028T131500
SUMMARY: JOLT x Paul\, Weiss
DESCRIPTION: Join us for lunch session with Litigation Partner\, Katherine 
 Forrest and associate\, Scott Caravello\, from Paul\, Weiss. Lunch will be 
 served.
X-ALT-DESC;FMTTYPE=text/html: <p>Join us for lunch session with Litigation 
 Partner\, Katherine Forrest and associate\, Scott Caravello\, from Paul\, W
 eiss. Lunch will be served.</p>
LOCATION:Hauser Hall\; 102 Malkin Classroom
GEO:0;0
ORGANIZER;CN="API User":MAILTO:api@law.harvard.edu
URL;VALUE=URI:https://hls.harvard.edu/events/jolt-x-paul-weiss/
END:VEVENT
BEGIN:VTIMEZONE
TZID:America/New_York
BEGIN:DAYLIGHT
TZOFFSETFROM:-0500
TZOFFSETTO:-0400
DTSTART:20250309T070000
TZNAME:EDT
END:DAYLIGHT
END:VTIMEZONE
END:VCALENDAR
