BEGIN:VCALENDAR
VERSION:2.0
PRODID:-//Harvard Law School//NONSGML Events//EN
CALSCALE:GREGORIAN
X-WR-CALNAME:Harvard Law School - Events
X-ORIGINAL-URL:https://hls.harvard.edu/calendar/
X-WR-CALDESC:Harvard Law School - Events
BEGIN:VEVENT
UID:20250918T2057Z-1758229057.3063-EO-723538-1@10.73.0.97
STATUS:CONFIRMED
DTSTAMP:20260421T130437Z
CREATED:20250918T151734Z
LAST-MODIFIED:20251010T183502Z
DTSTART;TZID=America/New_York:20251106T123000
DTEND;TZID=America/New_York:20251106T131500
SUMMARY: JOLT x Jake Laperruque (Center for Democracy and Technology)
DESCRIPTION: Join the Harvard Journal of Law & Technology for an exciting Q
 &A with Jake Laperruque\, who serves as Deputy Director of the Center for D
 emocracy & Technology’s Security and Surveillance Project. Director Laperru
 que will talk about his work at CDT and the growing law enforcement use of 
 AI. Lunch will be served!
X-ALT-DESC;FMTTYPE=text/html: <p>Join the Harvard Journal of Law & Technolo
 gy for an exciting Q&A with Jake Laperruque\, who serves as Deputy Director
  of the Center for Democracy & Technology's Security and Surveillance Proje
 ct. Director Laperruque will talk about his work at CDT and the growing law
  enforcement use of AI.<br />Lunch will be served!</p>
LOCATION:WCC\; 1010 Classroom
GEO:0;0
ORGANIZER;CN="API User":MAILTO:api@law.harvard.edu
URL;VALUE=URI:https://hls.harvard.edu/events/jolt-x-jake-laperruque-center-
 for-democracy-and-technology/
END:VEVENT
BEGIN:VTIMEZONE
TZID:America/New_York
BEGIN:STANDARD
TZOFFSETFROM:-0400
TZOFFSETTO:-0500
DTSTART:20251102T060000
TZNAME:EST
END:STANDARD
END:VTIMEZONE
END:VCALENDAR
