BEGIN:VCALENDAR
VERSION:2.0
PRODID:-//Harvard Law School//NONSGML Events//EN
CALSCALE:GREGORIAN
X-WR-CALNAME:Harvard Law School - Events
X-ORIGINAL-URL:https://hls.harvard.edu/calendar/
X-WR-CALDESC:Harvard Law School - Events
BEGIN:VEVENT
UID:20251007T1641Z-1759855273.6558-EO-727290-1@10.73.7.237
STATUS:CONFIRMED
DTSTAMP:20260421T130130Z
CREATED:20251007T154503Z
LAST-MODIFIED:20251008T164732Z
DTSTART;TZID=America/New_York:20251103T123000
DTEND;TZID=America/New_York:20251103T131500
SUMMARY: JOLT x Fish & Richardson
DESCRIPTION: Join us with Intellectual Property law firm\, Fish & Richardso
 n with Principals\, Frank Scherkenbach\, Andrew Pearson\, and Jeff Shneidma
 n\, for a lunch panel to discuss careers in IP\, litigation\, and more! Lun
 ch will be served.
X-ALT-DESC;FMTTYPE=text/html: <p>Join us with Intellectual Property law fir
 m\, Fish & Richardson with Principals\, Frank Scherkenbach\, Andrew Pearson
 \, and Jeff Shneidman\, for a lunch panel to discuss careers in IP\, litiga
 tion\, and more! Lunch will be served.</p>
LOCATION:WCC\; 1015 Classroom
GEO:0;0
ORGANIZER;CN="API User":MAILTO:api@law.harvard.edu
URL;VALUE=URI:https://hls.harvard.edu/events/jolt-x-fish-richardson/
END:VEVENT
BEGIN:VTIMEZONE
TZID:America/New_York
BEGIN:STANDARD
TZOFFSETFROM:-0400
TZOFFSETTO:-0500
DTSTART:20251102T060000
TZNAME:EST
END:STANDARD
END:VTIMEZONE
END:VCALENDAR
