BEGIN:VCALENDAR
VERSION:2.0
PRODID:-//Harvard Law School//NONSGML Events//EN
CALSCALE:GREGORIAN
X-WR-CALNAME:Harvard Law School - Events
X-ORIGINAL-URL:https://hls.harvard.edu/calendar/
X-WR-CALDESC:Harvard Law School - Events
BEGIN:VEVENT
UID:20251106T1528Z-1762442934.1925-EO-731559-1@10.73.7.213
STATUS:CONFIRMED
DTSTAMP:20260421T130010Z
CREATED:20251106T144233Z
LAST-MODIFIED:20260217T193814Z
DTSTART;TZID=America/New_York:20251119T173000
DTEND;TZID=America/New_York:20251119T200000
SUMMARY: JOLT Career Fair!
DESCRIPTION: Curious about what a career at the intersection of law and tec
 h looks like? Join JOLT for a Tech Career Fair bringing together practition
 ers working in IP\, privacy\, Tech Transactions\, and more! Meet attorneys 
 from a variety of law firms and learn about different pathways into the fie
 ld. Dinner will be catered.
X-ALT-DESC;FMTTYPE=text/html: <p>Curious about what a career at the interse
 ction of law and tech looks like? Join JOLT for a Tech Career Fair bringing
  together practitioners working in IP\, privacy\, Tech Transactions\, and m
 ore!<br />Meet attorneys from a variety of law firms and learn about differ
 ent pathways into the field. Dinner will be catered.</p>
LOCATION:WCC\; 2019 Milstein West AB
GEO:0;0
ORGANIZER;CN="API User":MAILTO:api@law.harvard.edu
URL;VALUE=URI:https://hls.harvard.edu/events/jolt-career-fair/
END:VEVENT
BEGIN:VTIMEZONE
TZID:America/New_York
BEGIN:STANDARD
TZOFFSETFROM:-0400
TZOFFSETTO:-0500
DTSTART:20251102T060000
TZNAME:EST
END:STANDARD
END:VTIMEZONE
END:VCALENDAR
