BEGIN:VCALENDAR
VERSION:2.0
PRODID:-//Harvard Law School//NONSGML Events//EN
CALSCALE:GREGORIAN
X-WR-CALNAME:Harvard Law School - Events
X-ORIGINAL-URL:https://hls.harvard.edu/calendar/
X-WR-CALDESC:Harvard Law School - Events
BEGIN:VEVENT
UID:20250725T2013Z-1753474438.2373-EO-715141-1@10.73.5.249
STATUS:CONFIRMED
DTSTAMP:20260423T083811Z
CREATED:20250725T174815Z
LAST-MODIFIED:20250725T182850Z
DTSTART;TZID=America/New_York:20250820T090000
DTEND;TZID=America/New_York:20250820T160000
RDATE;TZID=America/New_York:20250820T090000,20250821T090000,20250822T090000
SUMMARY: ITS Service Desk
DESCRIPTION: The pop-up ITS Service Desk will be available Wednesday\, Augu
 st 20 – Friday\, August 22 from 9am – 11am and 2pm – 4pm during HUID Pick-U
 p. Stop by to ask the ITS team about HarvardKey\, Harvard Secure Wireless\,
  printing\, email and Google apps\, Microsoft Office\, Zoom\, and more.
X-ALT-DESC;FMTTYPE=text/html: <p>The pop-up ITS Service Desk will be availa
 ble Wednesday\, August 20 - Friday\, August 22 from 9am - 11am and 2pm - 4p
 m during HUID Pick-Up.</p><p>Stop by to ask the ITS team about HarvardKey\,
  Harvard Secure Wireless\, printing\, email and Google apps\, Microsoft Off
 ice\, Zoom\, and more.</p>
LOCATION:WCC\; Game Room
GEO:0.000000;0.000000
ORGANIZER;CN="Kayla Kaszyca":MAILTO:kkaszyca@law.harvard.edu
URL;VALUE=URI:https://hls.harvard.edu/events/its-service-desk/
END:VEVENT
BEGIN:VEVENT
UID:20250725T2013Z-1753474438.2373-EO-715141-1@10.73.5.249
STATUS:CONFIRMED
DTSTAMP:20260423T083811Z
CREATED:20250725T174815Z
LAST-MODIFIED:20250725T182850Z
DTSTART;TZID=America/New_York:20250820T090000
DTEND;TZID=America/New_York:20250820T160000
RDATE;TZID=America/New_York:20250820T090000,20250821T090000,20250822T090000
SUMMARY: ITS Service Desk
DESCRIPTION: The pop-up ITS Service Desk will be available Wednesday\, Augu
 st 20 – Friday\, August 22 from 9am – 11am and 2pm – 4pm during HUID Pick-U
 p. Stop by to ask the ITS team about HarvardKey\, Harvard Secure Wireless\,
  printing\, email and Google apps\, Microsoft Office\, Zoom\, and more.
X-ALT-DESC;FMTTYPE=text/html: <p>The pop-up ITS Service Desk will be availa
 ble Wednesday\, August 20 - Friday\, August 22 from 9am - 11am and 2pm - 4p
 m during HUID Pick-Up.</p><p>Stop by to ask the ITS team about HarvardKey\,
  Harvard Secure Wireless\, printing\, email and Google apps\, Microsoft Off
 ice\, Zoom\, and more.</p>
LOCATION:WCC\; Game Room
GEO:0.000000;0.000000
ORGANIZER;CN="Kayla Kaszyca":MAILTO:kkaszyca@law.harvard.edu
URL;VALUE=URI:https://hls.harvard.edu/events/its-service-desk/
END:VEVENT
BEGIN:VEVENT
UID:20250725T2013Z-1753474438.2373-EO-715141-1@10.73.5.249
STATUS:CONFIRMED
DTSTAMP:20260423T083811Z
CREATED:20250725T174815Z
LAST-MODIFIED:20250725T182850Z
DTSTART;TZID=America/New_York:20250820T090000
DTEND;TZID=America/New_York:20250820T160000
RDATE;TZID=America/New_York:20250820T090000,20250821T090000,20250822T090000
SUMMARY: ITS Service Desk
DESCRIPTION: The pop-up ITS Service Desk will be available Wednesday\, Augu
 st 20 – Friday\, August 22 from 9am – 11am and 2pm – 4pm during HUID Pick-U
 p. Stop by to ask the ITS team about HarvardKey\, Harvard Secure Wireless\,
  printing\, email and Google apps\, Microsoft Office\, Zoom\, and more.
X-ALT-DESC;FMTTYPE=text/html: <p>The pop-up ITS Service Desk will be availa
 ble Wednesday\, August 20 - Friday\, August 22 from 9am - 11am and 2pm - 4p
 m during HUID Pick-Up.</p><p>Stop by to ask the ITS team about HarvardKey\,
  Harvard Secure Wireless\, printing\, email and Google apps\, Microsoft Off
 ice\, Zoom\, and more.</p>
LOCATION:WCC\; Game Room
GEO:0.000000;0.000000
ORGANIZER;CN="Kayla Kaszyca":MAILTO:kkaszyca@law.harvard.edu
URL;VALUE=URI:https://hls.harvard.edu/events/its-service-desk/
END:VEVENT
BEGIN:VTIMEZONE
TZID:America/New_York
BEGIN:DAYLIGHT
TZOFFSETFROM:-0500
TZOFFSETTO:-0400
DTSTART:20250309T070000
TZNAME:EDT
END:DAYLIGHT
END:VTIMEZONE
END:VCALENDAR
