BEGIN:VCALENDAR
VERSION:2.0
PRODID:-//Harvard Law School//NONSGML Events//EN
CALSCALE:GREGORIAN
X-WR-CALNAME:Harvard Law School - Events
X-ORIGINAL-URL:https://hls.harvard.edu/calendar/
X-WR-CALDESC:Harvard Law School - Events
BEGIN:VEVENT
UID:20250206T1833Z-1738866785.2125-EO-688209-1@10.73.9.11
STATUS:CONFIRMED
DTSTAMP:20260425T000421Z
CREATED:20250206T153205Z
LAST-MODIFIED:20250206T153205Z
DTSTART;TZID=America/New_York:20250212T121500
DTEND;TZID=America/New_York:20250212T131500
SUMMARY: iTrek Info Session
DESCRIPTION: Interested in learning more about the HLS iTrek? Stop by our u
 pcoming info session in WCC 1057! iTrek is a one-week\, highly subsidized t
 rip to Israel during spring break designed to offer an educational and cult
 ural experience. This is a fantastic opportunity to meet some of our trek l
 eaders\, enjoy some snacks\, and get all […]
X-ALT-DESC;FMTTYPE=text/html: <p>Interested in learning more about the HLS 
 iTrek? Stop by our upcoming info session in WCC 1057! iTrek is a one-week\,
  highly subsidized trip to Israel during spring break designed to offer an 
 educational and cultural experience. This is a fantastic opportunity to mee
 t some of our trek leaders\, enjoy some snacks\, and get all your questions
  answered. Whether you're curious about the itinerary\, want insights on wh
 at to expect\, or just want to learn more\, this session is for you.</p><p>
 If you have questions and can't make it\, or if you want the registration l
 ink\, please email <a href="mailto:hlsitrekleaders@gmail.com">hlsitrekleade
 rs@gmail.com</a>.</p>
CATEGORIES:Information Session
LOCATION:Wasserstein Hall 1585
GEO:0.000000;0.000000
ORGANIZER;CN="Valerie Gleiser Jamri":MAILTO:vgleiserjamri@jd26.law.harvard.
 edu
URL;VALUE=URI:https://hls.harvard.edu/events/itrek-info-session/
END:VEVENT
BEGIN:VTIMEZONE
TZID:America/New_York
BEGIN:STANDARD
TZOFFSETFROM:-0400
TZOFFSETTO:-0500
DTSTART:20241103T060000
TZNAME:EST
END:STANDARD
END:VTIMEZONE
END:VCALENDAR
