BEGIN:VCALENDAR
VERSION:2.0
PRODID:-//Harvard Law School//NONSGML Events//EN
CALSCALE:GREGORIAN
X-WR-CALNAME:Harvard Law School - Events
X-ORIGINAL-URL:https://hls.harvard.edu/calendar/
X-WR-CALDESC:Harvard Law School - Events
BEGIN:VEVENT
UID:20250223T1913Z-1740338004.5385-EO-690785-1@10.73.8.218
STATUS:CONFIRMED
DTSTAMP:20260423T065627Z
CREATED:20250223T163002Z
LAST-MODIFIED:20250227T204005Z
DTSTART;TZID=America/New_York:20250228T121500
DTEND;TZID=America/New_York:20250228T131500
SUMMARY: IPLA x Latham
DESCRIPTION: Join us for an exclusive panel discussion with attorneys from 
 Latham & Watkins\, where they will share insights into career progression a
 t a top global law firm. Our panel features two partners and an associate\,
  all with backgrounds in intellectual property law. They will discuss their
  career paths\, the skills needed for success\, and how […]
X-ALT-DESC;FMTTYPE=text/html: <p>Join us for an exclusive panel discussion 
 with attorneys from Latham & Watkins\, where they will share insights into 
 career progression at a top global law firm. Our panel features two partner
 s and an associate\, all with backgrounds in intellectual property law. The
 y will discuss their career paths\, the skills needed for success\, and how
  Latham supports professional growth at every stage.  </p><p>Don't miss thi
 s opportunity to gain firsthand perspectives and ask your questions about n
 avigating a legal career in IP!</p><p>RSVP: https://tinyurl.com/IPLALatham 
  </p>
LOCATION:WCC\; 2004 Classroom
GEO:0;0
ORGANIZER;CN="API User":MAILTO:api@law.harvard.edu
URL;VALUE=URI:https://hls.harvard.edu/events/ipla-x-latham/
END:VEVENT
BEGIN:VTIMEZONE
TZID:America/New_York
BEGIN:STANDARD
TZOFFSETFROM:-0400
TZOFFSETTO:-0500
DTSTART:20241103T060000
TZNAME:EST
END:STANDARD
END:VTIMEZONE
END:VCALENDAR
