BEGIN:VCALENDAR
VERSION:2.0
PRODID:-//Harvard Law School//NONSGML Events//EN
CALSCALE:GREGORIAN
X-WR-CALNAME:Harvard Law School - Events
X-ORIGINAL-URL:https://hls.harvard.edu/calendar/
X-WR-CALDESC:Harvard Law School - Events
BEGIN:VEVENT
UID:20260422T1827Z-1776882424.0583-EO-749714-1@10.73.0.38
STATUS:CONFIRMED
DTSTAMP:20260423T020036Z
CREATED:20260422T174503Z
LAST-MODIFIED:20260422T190503Z
DTSTART;TZID=America/New_York:20260519T120000
DTEND;TZID=America/New_York:20260519T140000
SUMMARY: Informational Session
DESCRIPTION: Harvard Law Criminal Justice Institute hosts an informal\, one
 -hour open house for prospective students\, led by Professor Dehlia Umunna\
 , offering valuable insights into course expectations and strategic plannin
 g for the semester. This will be an excellent opportunity to gather essenti
 al information and address any questions
X-ALT-DESC;FMTTYPE=text/html: <p>Harvard Law Criminal Justice Institute hos
 ts an informal\, one-hour open house for prospective students\, led by Prof
 essor Dehlia Umunna\, offering valuable insights into course expectations a
 nd strategic planning for the semester. This will be an excellent opportuni
 ty to gather essential information and address any questions</p>
LOCATION:Pound Hall\; 102 Classroom
GEO:0;0
ORGANIZER;CN="API User":MAILTO:api@law.harvard.edu
URL;VALUE=URI:https://hls.harvard.edu/events/informational-session/
END:VEVENT
BEGIN:VTIMEZONE
TZID:America/New_York
BEGIN:DAYLIGHT
TZOFFSETFROM:-0500
TZOFFSETTO:-0400
DTSTART:20260308T070000
TZNAME:EDT
END:DAYLIGHT
END:VTIMEZONE
END:VCALENDAR
