BEGIN:VCALENDAR
VERSION:2.0
PRODID:-//Harvard Law School//NONSGML Events//EN
CALSCALE:GREGORIAN
X-WR-CALNAME:Harvard Law School - Events
X-ORIGINAL-URL:https://hls.harvard.edu/calendar/
X-WR-CALDESC:Harvard Law School - Events
BEGIN:VEVENT
UID:20250926T2023Z-1758918205.3202-EO-725092-1@10.73.9.45
STATUS:CONFIRMED
DTSTAMP:20260424T035254Z
CREATED:20250926T191233Z
LAST-MODIFIED:20250926T191233Z
DTSTART;TZID=America/New_York:20251001T180000
DTEND;TZID=America/New_York:20251001T200000
SUMMARY: ICC Moot Court Team Information meeting
DESCRIPTION: ICC moot court team information meeting.
X-ALT-DESC;FMTTYPE=text/html: <p>ICC moot court team information meeting.</
 p>
LOCATION:WCC\; 2012 Classroom
GEO:0;0
ORGANIZER;CN="API User":MAILTO:api@law.harvard.edu
URL;VALUE=URI:https://hls.harvard.edu/events/icc-moot-court-team-informatio
 n-meeting/
END:VEVENT
BEGIN:VTIMEZONE
TZID:America/New_York
BEGIN:DAYLIGHT
TZOFFSETFROM:-0500
TZOFFSETTO:-0400
DTSTART:20250309T070000
TZNAME:EDT
END:DAYLIGHT
END:VTIMEZONE
END:VCALENDAR
