BEGIN:VCALENDAR
VERSION:2.0
PRODID:-//Harvard Law School//NONSGML Events//EN
CALSCALE:GREGORIAN
X-WR-CALNAME:Harvard Law School - Events
X-ORIGINAL-URL:https://hls.harvard.edu/calendar/
X-WR-CALDESC:Harvard Law School - Events
BEGIN:VEVENT
UID:20250826T2358Z-1756252739.7683-EO-719108-1@10.73.0.97
STATUS:CONFIRMED
DTSTAMP:20260422T124857Z
CREATED:20250826T224651Z
LAST-MODIFIED:20250826T224651Z
DTSTART;TZID=America/New_York:20250904T121500
DTEND;TZID=America/New_York:20250904T131500
SUMMARY: Human Rights @ HLS Orientation
DESCRIPTION: Join us for pizza and an overview of: The International Human 
 Rights Clinic The Human Rights Program HLS Advocates for Human Rights The H
 arvard Human Rights Journal
X-ALT-DESC;FMTTYPE=text/html: <p><strong>Join us for pizza and an overview 
 of:</strong></p><p><i>The International Human Rights Clinic</i></p><p><i>Th
 e Human Rights Program</i></p><p><i>HLS Advocates for Human Rights</i></p><
 p><i>The Harvard Human Rights Journal</i></p>
CATEGORIES:Orientation
LOCATION:WCC 1019
GEO:0.000000;0.000000
ORGANIZER;CN="Sanjana Nayak":MAILTO:snayak@law.harvard.edu
URL;VALUE=URI:https://hls.harvard.edu/events/human-rights-hls-orientation-2
 /
ATTACH;FMTTYPE=image/png:https://hls.harvard.edu/wp-content/uploads/2025/08/Human-Rights-@-HLS-Final.png
END:VEVENT
BEGIN:VTIMEZONE
TZID:America/New_York
BEGIN:DAYLIGHT
TZOFFSETFROM:-0500
TZOFFSETTO:-0400
DTSTART:20250309T070000
TZNAME:EDT
END:DAYLIGHT
END:VTIMEZONE
END:VCALENDAR
