BEGIN:VCALENDAR
VERSION:2.0
PRODID:-//Harvard Law School//NONSGML Events//EN
CALSCALE:GREGORIAN
X-WR-CALNAME:Harvard Law School - Events
X-ORIGINAL-URL:https://hls.harvard.edu/calendar/
X-WR-CALDESC:Harvard Law School - Events
BEGIN:VEVENT
UID:20250926T2023Z-1758918207.4905-EO-724886-1@10.73.9.45
STATUS:CONFIRMED
DTSTAMP:20260424T041314Z
CREATED:20250925T185026Z
LAST-MODIFIED:20250925T185026Z
DTSTART;TZID=America/New_York:20251001T110000
DTEND;TZID=America/New_York:20251001T130000
SUMMARY: HUDS Zombie Brew Taste Test
DESCRIPTION: Join HUDS on October 1st\, 11 AM – 1 PM at Harkness Café for a
  sneak peek tasting of a new Zombie Brew (cold brew coffee haunted with van
 illa flavor topped off with a chill of ghoulish matcha-vanilla flavored col
 d foam) —here for a limited time only! Be the first to try it before it […]
X-ALT-DESC;FMTTYPE=text/html: <p><!-- wp:paragraph --></p><p>Join HUDS on O
 ctober 1st\, 11 AM – 1 PM at Harkness Café for a sneak peek tasting of a ne
 w Zombie Brew (cold brew coffee haunted with vanilla flavor topped off with
  a chill of ghoulish matcha-vanilla flavored cold foam) —here for a limited
  time only!</p><p>Be the first to try it before it officially goes on sale.
 </p><p>Available for purchase October 13 – November 3 at the Hark Box.</p><
 p><!-- /wp:paragraph --></p>
LOCATION:Harkness Dining
GEO:0.000000;0.000000
ORGANIZER;CN="Kayla Kaszyca":MAILTO:kkaszyca@law.harvard.edu
URL;VALUE=URI:https://hls.harvard.edu/events/huds-zombie-brew-taste-test/
END:VEVENT
BEGIN:VTIMEZONE
TZID:America/New_York
BEGIN:DAYLIGHT
TZOFFSETFROM:-0500
TZOFFSETTO:-0400
DTSTART:20250309T070000
TZNAME:EDT
END:DAYLIGHT
END:VTIMEZONE
END:VCALENDAR
