BEGIN:VCALENDAR
VERSION:2.0
PRODID:-//Harvard Law School//NONSGML Events//EN
CALSCALE:GREGORIAN
X-WR-CALNAME:Harvard Law School - Events
X-ORIGINAL-URL:https://hls.harvard.edu/calendar/
X-WR-CALDESC:Harvard Law School - Events
BEGIN:VEVENT
UID:20260417T2120Z-1776460815.6595-EO-748596-1@10.73.0.19
STATUS:CONFIRMED
DTSTAMP:20260419T044229Z
CREATED:20260417T184828Z
LAST-MODIFIED:20260417T184828Z
DTSTART;TZID=America/New_York:20260420T123000
DTEND;TZID=America/New_York:20260420T131500
SUMMARY: Housing as the Key to Safety: Strengthening Eviction Defenses and 
 Improving Access to Housing for Survivors of Gender-Based Violence
DESCRIPTION: The WLA Domestic Policy Committee\, Professor Julia Devanthéry
 \, and students from the Housing Justice for Survivors Project invite you t
 o Housing as the Key to Safety: Strengthening Eviction Defenses & Improving
  Access to Housing for Survivors of Gender-Based Violence. This presentatio
 n will examine how gender-based violence contributes to housing instability
  and highlight the speakers’ efforts to drive […]
X-ALT-DESC;FMTTYPE=text/html: <div>The WLA Domestic Policy Committee\, Prof
 essor Julia Devanthéry\, and students from the Housing Justice for Survivor
 s Project invite you to <i>Housing as the Key to Safety: Strengthening Evic
 tion Defenses & Improving Access to Housing for Survivors of Gender-Based V
 iolence</i>. This presentation will examine how gender-based violence contr
 ibutes to housing instability and highlight the speakers' efforts to drive 
 reform in Massachusetts through strategic advocacy rooted in direct service
 s. Specifically\, speakers will discuss litigation efforts in Massachusetts
  (including a case argued before the Massachusetts SJC)\, reforms to evicti
 on defenses\, and pathways for expanding federal housing protections to pri
 vate and state-funded housing. Lunch will be provided.</div><div></div><div
 ><b>RSVP: </b><a href="https://forms.gle/4TcTCGveVqaqjnoB6" target="_blank"
  rel="noopener" data-saferedirecturl="https://www.google.com/url?q=https://
 forms.gle/4TcTCGveVqaqjnoB6&source=gmail&ust=1776529887348000&usg=AOvVaw23b
 fa74yFFVXvq12qAKTjZ">https://forms.gle/4TcTCGveVqaqjnoB6</a></div>
LOCATION:WCC 1019
GEO:0.000000;0.000000
ORGANIZER;CN="Sharlie Wu":MAILTO:xwu@jd27.law.harvard.edu
URL;VALUE=URI:https://hls.harvard.edu/events/housing-as-the-key-to-safety-s
 trengthening-eviction-defenses-and-improving-access-to-housing-for-survivor
 s-of-gender-based-violence/
ATTACH;FMTTYPE=image/png:https://hls.harvard.edu/wp-content/uploads/2026/04/Housing-as-the-Key-to-Safety.png
END:VEVENT
BEGIN:VTIMEZONE
TZID:America/New_York
BEGIN:DAYLIGHT
TZOFFSETFROM:-0500
TZOFFSETTO:-0400
DTSTART:20260308T070000
TZNAME:EDT
END:DAYLIGHT
END:VTIMEZONE
END:VCALENDAR
