BEGIN:VCALENDAR
VERSION:2.0
PRODID:-//Harvard Law School//NONSGML Events//EN
CALSCALE:GREGORIAN
X-WR-CALNAME:Harvard Law School - Events
X-ORIGINAL-URL:https://hls.harvard.edu/calendar/
X-WR-CALDESC:Harvard Law School - Events
BEGIN:VEVENT
UID:20250929T1848Z-1759171717.115-EO-725184-1@10.73.0.4
STATUS:CONFIRMED
DTSTAMP:20260424T171256Z
CREATED:20250929T131710Z
LAST-MODIFIED:20250929T141800Z
DTSTART;TZID=America/New_York:20251010T123000
DTEND;TZID=America/New_York:20251010T133000
SUMMARY: Hope in the Age of Generative AI\, Dr. John Kim\, Coll. ’95\, Ph.D
 . ’98 (MIT)
DESCRIPTION: Join us for a luncheon keynote of Dr. John Kim\, Coll. ’95\, P
 h.D. ’98 (MIT)\, entitled Hope in the Age of Generative AI. Keynote deliver
 ed as part of Imago Dei and the Algorithmic Society: A Conference on Christ
 ianity and Artificial Intelligence\, taking place on October 9-10\, 2025\, 
 at Harvard University. Conference sponsored by Christianity & The […]
X-ALT-DESC;FMTTYPE=text/html: <p>Join us for a luncheon keynote of <b>Dr. J
 ohn Kim</b>\, Coll. '95\, Ph.D. '98 (MIT)\, entitled <strong>Hope in the Ag
 e of Generative AI</strong>. Keynote delivered as part of <a href="https://
 ccg.fas.harvard.edu/conference-pages/christianity-and-ai"><i>Imago Dei and 
 the Algorithmic Society: A Conference on Christianity and Artificial Intell
 igence</i></a>\, taking place on October 9-10\, 2025\, at Harvard Universit
 y.</p><p>Conference sponsored by <a href="https://ccg.fas.harvard.edu/">Chr
 istianity & The Common Good</a> and the <a href="https://pblcls.law.harvard
 .edu/">HLS Program on Biblical Law and Christian Legal Studies</a>. Space i
 s limited. Conference registration required. Register <a href="https://harv
 ard.az1.qualtrics.com/jfe/form/SV_aheYucycWtRmsPY">here</a>. Inquiries to <
 a href="mailto:ccg@fas.harvard.edu">ccg@fas.harvard.edu</a>.</p>
CATEGORIES:Conference/Symposium,Lecture,Speaker/Panel
LOCATION:Swartz Hall\, Harvard Divinity School
GEO:0.000000;0.000000
ORGANIZER;CN="Tomas Felcman":MAILTO:tfelcman@law.harvard.edu
URL;VALUE=URI:https://hls.harvard.edu/events/hope-in-the-age-of-generative-
 ai-dr-john-kim-coll-95-ph-d-98-mit/
ATTACH;FMTTYPE=image/png:https://hls.harvard.edu/wp-content/uploads/2025/09/Kim-1207x793-–-v1-–-4-1.png
END:VEVENT
BEGIN:VTIMEZONE
TZID:America/New_York
BEGIN:DAYLIGHT
TZOFFSETFROM:-0500
TZOFFSETTO:-0400
DTSTART:20250309T070000
TZNAME:EDT
END:DAYLIGHT
END:VTIMEZONE
END:VCALENDAR
