BEGIN:VCALENDAR
VERSION:2.0
PRODID:-//Harvard Law School//NONSGML Events//EN
CALSCALE:GREGORIAN
X-WR-CALNAME:Harvard Law School - Events
X-ORIGINAL-URL:https://hls.harvard.edu/calendar/
X-WR-CALDESC:Harvard Law School - Events
BEGIN:VEVENT
UID:20250924T1526Z-1758727617.3389-EO-724104-1@10.73.9.45
STATUS:CONFIRMED
DTSTAMP:20260423T205855Z
CREATED:20250922T154844Z
LAST-MODIFIED:20251028T140843Z
DTSTART;TZID=America/New_York:20251029T122000
DTEND;TZID=America/New_York:20251029T131500
SUMMARY: HLS Rappaport Forum: Educational Opt-Outs After Mahmoud v. Taylor
DESCRIPTION: The Harvard Law School Rappaport Forum is designed to promote 
 and model full\, vigorous\, and civil discourse
X-ALT-DESC;FMTTYPE=text/html: <h2>Guest Speakers</h2><p>Douglas Laycock<br 
 />Alice McKean Young Regents Chair in Law Emeritus\, University of Texas at
  Austin<br />Robert E. Scott Distinguished Professor of Law Emeritus\, Univ
 ersity of Virginia</p><p>Justin Driver<br />Robert R. Slaughter Professor o
 f Law\, Yale Law School</p><h2>Moderator</h2><p>Laura Weinrib<br />Fred N. 
 Fishman Professor of Constitutional Law\, Harvard Law School</p><p>Lunch wi
 ll be served</p>
CATEGORIES:Lecture
LOCATION:WCC\; 2036 Milstein East BC
GEO:0;0
ORGANIZER;CN="Courtney Majocha":MAILTO:cmajocha@law.harvard.edu
URL;VALUE=URI:https://hls.harvard.edu/events/hls-rappaport-forum-educationa
 l-opt-outs-after-mahmoud-v-taylor/
ATTACH;FMTTYPE=image/png:https://hls.harvard.edu/wp-content/uploads/2023/10/Rappaport-Forum-1.png
END:VEVENT
BEGIN:VTIMEZONE
TZID:America/New_York
BEGIN:DAYLIGHT
TZOFFSETFROM:-0500
TZOFFSETTO:-0400
DTSTART:20250309T070000
TZNAME:EDT
END:DAYLIGHT
END:VTIMEZONE
END:VCALENDAR
