BEGIN:VCALENDAR
VERSION:2.0
PRODID:-//Harvard Law School//NONSGML Events//EN
CALSCALE:GREGORIAN
X-WR-CALNAME:Harvard Law School - Events
X-ORIGINAL-URL:https://hls.harvard.edu/calendar/
X-WR-CALDESC:Harvard Law School - Events
BEGIN:VEVENT
UID:20251028T1524Z-1761665082.1274-EO-729660-1@10.73.7.237
STATUS:CONFIRMED
DTSTAMP:20260423T083719Z
CREATED:20251028T145516Z
LAST-MODIFIED:20251028T145516Z
DTSTART;TZID=America/New_York:20251119T190000
DTEND;TZID=America/New_York:20251119T210000
SUMMARY: HLS Pub Trivia
DESCRIPTION: Come to HLS Pub Trivia! Bring friends\, grab a drink\, and tes
 t your knowledge. Trivia takes place every Wednesday from 7–9pm in the HLS 
 Pub.
X-ALT-DESC;FMTTYPE=text/html: <p>Come to HLS Pub Trivia! Bring friends\, gr
 ab a drink\, and test your knowledge. Trivia takes place every Wednesday fr
 om 7–9pm in the HLS Pub.</p>
CATEGORIES:Social Event
LOCATION:HLS Pub
GEO:0.000000;0.000000
ORGANIZER;CN="Eli Cooper":MAILTO:ecooper@jd27.law.harvard.edu
URL;VALUE=URI:https://hls.harvard.edu/events/hls-pub-trivia-4/
END:VEVENT
BEGIN:VTIMEZONE
TZID:America/New_York
BEGIN:STANDARD
TZOFFSETFROM:-0400
TZOFFSETTO:-0500
DTSTART:20251102T060000
TZNAME:EST
END:STANDARD
END:VTIMEZONE
END:VCALENDAR
