BEGIN:VCALENDAR
VERSION:2.0
PRODID:-//Harvard Law School//NONSGML Events//EN
CALSCALE:GREGORIAN
X-WR-CALNAME:Harvard Law School - Events
X-ORIGINAL-URL:https://hls.harvard.edu/calendar/
X-WR-CALDESC:Harvard Law School - Events
BEGIN:VEVENT
UID:20250910T1357Z-1757512650.8231-EO-722131-1@10.73.0.97
STATUS:CONFIRMED
DTSTAMP:20260423T050752Z
CREATED:20250910T131733Z
LAST-MODIFIED:20250913T172010Z
DTSTART;TZID=America/New_York:20250922T120000
DTEND;TZID=America/New_York:20250922T131500
SUMMARY: HLS Lambda General Body Meeting
DESCRIPTION: Come join Lambda (HLS’s affinity organization for the LGBTQ+ c
 ommunity and allied students) for lunch and our first general body meeting!
  Learn about the organization and upcoming programming!
X-ALT-DESC;FMTTYPE=text/html: <p>Come join Lambda (HLS's affinity organizat
 ion for the LGBTQ+ community and allied students) for lunch and our first g
 eneral body meeting! Learn about the organization and upcoming programming!
 </p>
LOCATION:WCC\; 2009 Classroom
GEO:0;0
ORGANIZER;CN="API User":MAILTO:api@law.harvard.edu
URL;VALUE=URI:https://hls.harvard.edu/events/hls-lambda-general-body-meetin
 g/
END:VEVENT
BEGIN:VTIMEZONE
TZID:America/New_York
BEGIN:DAYLIGHT
TZOFFSETFROM:-0500
TZOFFSETTO:-0400
DTSTART:20250309T070000
TZNAME:EDT
END:DAYLIGHT
END:VTIMEZONE
END:VCALENDAR
