BEGIN:VCALENDAR
VERSION:2.0
PRODID:-//Harvard Law School//NONSGML Events//EN
CALSCALE:GREGORIAN
X-WR-CALNAME:Harvard Law School - Events
X-ORIGINAL-URL:https://hls.harvard.edu/calendar/
X-WR-CALDESC:Harvard Law School - Events
BEGIN:VEVENT
UID:20250421T1722Z-1745256168.9311-EO-701580-1@10.73.9.11
STATUS:CONFIRMED
DTSTAMP:20260423T145424Z
CREATED:20250421T163301Z
LAST-MODIFIED:20250421T163445Z
DTSTART;TZID=America/New_York:20250424T121500
DTEND;TZID=America/New_York:20250424T131500
SUMMARY: HLS Eats
DESCRIPTION: Come enjoy an open lunch with the HLS community. Eat\, connect
 \, unwind and build community with classmates and Student Government! All s
 tudents welcome.
X-ALT-DESC;FMTTYPE=text/html: <p>Come enjoy an open lunch with the HLS comm
 unity. Eat\, connect\, unwind and build community with classmates and Stude
 nt Government!</p><p>All students welcome.</p>
LOCATION:Student Organizations Room (WCC 2nd Floor)
GEO:0.000000;0.000000
ORGANIZER;CN="Kayla Kaszyca":MAILTO:kkaszyca@law.harvard.edu
URL;VALUE=URI:https://hls.harvard.edu/events/hls-eats/
ATTACH;FMTTYPE=image/jpeg:https://hls.harvard.edu/wp-content/uploads/2025/04/HLS-Eats-424.jpeg
END:VEVENT
BEGIN:VTIMEZONE
TZID:America/New_York
BEGIN:DAYLIGHT
TZOFFSETFROM:-0500
TZOFFSETTO:-0400
DTSTART:20250309T070000
TZNAME:EDT
END:DAYLIGHT
END:VTIMEZONE
END:VCALENDAR
