BEGIN:VCALENDAR
VERSION:2.0
PRODID:-//Harvard Law School//NONSGML Events//EN
CALSCALE:GREGORIAN
X-WR-CALNAME:Harvard Law School - Events
X-ORIGINAL-URL:https://hls.harvard.edu/calendar/
X-WR-CALDESC:Harvard Law School - Events
BEGIN:VEVENT
UID:20250910T1747Z-1757526433.5532-EO-722143-1@10.73.0.97
STATUS:CONFIRMED
DTSTAMP:20260423T200302Z
CREATED:20250910T133235Z
LAST-MODIFIED:20250912T204755Z
DTSTART;TZID=America/New_York:20250925T123000
DTEND;TZID=America/New_York:20250925T131500
SUMMARY: HLEP New Member Training (Harvard Law Entrepreneurship Project-  S
 PO)
DESCRIPTION: Need pro bono hours? Hoping to get hands-on experience advisin
 g Harvard/MIT startups? Looking for student practice experience with a tran
 sactional spin? HLEP is finalizing its membership for Fall 2025! Please att
 end our training session to learn more. RSVP to be included in our Fall 202
 5 project cycle.
X-ALT-DESC;FMTTYPE=text/html: <p>Need pro bono hours? Hoping to get hands-o
 n experience advising Harvard/MIT startups? Looking for student practice ex
 perience with a transactional spin? HLEP is finalizing its membership for F
 all 2025! Please attend our training session to learn more. RSVP here to be
  included in our Fall 2025 project cycle: https://docs.google.com/forms/d/e
 /1FAIpQLSdfTkh9qOJ3_O8yxlDen5S2Qo7vuPe16zQzNfTIjQL6w98kug/viewform</p>
LOCATION:WCC\; 1019 Classroom
GEO:0;0
ORGANIZER;CN="API User":MAILTO:api@law.harvard.edu
URL;VALUE=URI:https://hls.harvard.edu/events/hlep-new-member-training-harva
 rd-law-entrepreneurship-project-spo-4/
END:VEVENT
BEGIN:VTIMEZONE
TZID:America/New_York
BEGIN:DAYLIGHT
TZOFFSETFROM:-0500
TZOFFSETTO:-0400
DTSTART:20250309T070000
TZNAME:EDT
END:DAYLIGHT
END:VTIMEZONE
END:VCALENDAR
