BEGIN:VCALENDAR
VERSION:2.0
PRODID:-//Harvard Law School//NONSGML Events//EN
CALSCALE:GREGORIAN
X-WR-CALNAME:Harvard Law School - Events
X-ORIGINAL-URL:https://hls.harvard.edu/calendar/
X-WR-CALDESC:Harvard Law School - Events
BEGIN:VEVENT
UID:20250217T1619Z-1739809181.5189-EO-689872-1@10.73.9.11
STATUS:CONFIRMED
DTSTAMP:20260423T041442Z
CREATED:20250216T185233Z
LAST-MODIFIED:20250217T133504Z
DTSTART;TZID=America/New_York:20250410T123000
DTEND;TZID=America/New_York:20250410T133000
SUMMARY: HIP Pro Bono Panel
DESCRIPTION: The Harvard Law School Immigration Project will be hosting a p
 anel of big law attorneys to discuss their pro bono immigration work and ho
 w students looking to enter private practice can similarly get involved.
X-ALT-DESC;FMTTYPE=text/html: <p>The Harvard Law School Immigration Project
  will be hosting a panel of big law attorneys to discuss their pro bono imm
 igration work and how students looking to enter private practice can simila
 rly get involved. </p>
LOCATION:WCC\; 1019 Classroom
GEO:0;0
ORGANIZER;CN="API User":MAILTO:api@law.harvard.edu
URL;VALUE=URI:https://hls.harvard.edu/events/hip-pro-bono-panel/
END:VEVENT
BEGIN:VTIMEZONE
TZID:America/New_York
BEGIN:DAYLIGHT
TZOFFSETFROM:-0500
TZOFFSETTO:-0400
DTSTART:20250309T070000
TZNAME:EDT
END:DAYLIGHT
END:VTIMEZONE
END:VCALENDAR
