BEGIN:VCALENDAR
VERSION:2.0
PRODID:-//Harvard Law School//NONSGML Events//EN
CALSCALE:GREGORIAN
X-WR-CALNAME:Harvard Law School - Events
X-ORIGINAL-URL:https://hls.harvard.edu/calendar/
X-WR-CALDESC:Harvard Law School - Events
BEGIN:VEVENT
UID:20250725T2012Z-1753474345.1583-EO-715137-1@10.73.5.249
STATUS:CONFIRMED
DTSTAMP:20260423T083939Z
CREATED:20250725T173530Z
LAST-MODIFIED:20250725T182823Z
DTSTART;TZID=America/New_York:20250820T090000
DTEND;TZID=America/New_York:20250820T170000
RDATE;TZID=America/New_York:20250821T090000,20250822T090000
SUMMARY: Harvard University ID Pick-Up
DESCRIPTION: HUID pick-up will be available on Wednesday\, August 20 – Frid
 ay\, August 22 from 9am to 5pm in the WCC Game Room. This is a mandatory ev
 ent for all incoming students.
X-ALT-DESC;FMTTYPE=text/html: <p>HUID pick-up will be available on Wednesda
 y\, August 20 - Friday\, August 22 from 9am to 5pm in the WCC Game Room.</p
 ><p>This is a mandatory event for all incoming students.</p>
LOCATION:WCC\; Game Room
GEO:0.000000;0.000000
ORGANIZER;CN="Kayla Kaszyca":MAILTO:kkaszyca@law.harvard.edu
URL;VALUE=URI:https://hls.harvard.edu/events/harvard-university-id-pick-up/
END:VEVENT
BEGIN:VEVENT
UID:20250725T2012Z-1753474345.1583-EO-715137-1@10.73.5.249
STATUS:CONFIRMED
DTSTAMP:20260423T083939Z
CREATED:20250725T173530Z
LAST-MODIFIED:20250725T182823Z
DTSTART;TZID=America/New_York:20250820T090000
DTEND;TZID=America/New_York:20250820T170000
RDATE;TZID=America/New_York:20250821T090000,20250822T090000
SUMMARY: Harvard University ID Pick-Up
DESCRIPTION: HUID pick-up will be available on Wednesday\, August 20 – Frid
 ay\, August 22 from 9am to 5pm in the WCC Game Room. This is a mandatory ev
 ent for all incoming students.
X-ALT-DESC;FMTTYPE=text/html: <p>HUID pick-up will be available on Wednesda
 y\, August 20 - Friday\, August 22 from 9am to 5pm in the WCC Game Room.</p
 ><p>This is a mandatory event for all incoming students.</p>
LOCATION:WCC\; Game Room
GEO:0.000000;0.000000
ORGANIZER;CN="Kayla Kaszyca":MAILTO:kkaszyca@law.harvard.edu
URL;VALUE=URI:https://hls.harvard.edu/events/harvard-university-id-pick-up/
END:VEVENT
BEGIN:VEVENT
UID:20250725T2012Z-1753474345.1583-EO-715137-1@10.73.5.249
STATUS:CONFIRMED
DTSTAMP:20260423T083939Z
CREATED:20250725T173530Z
LAST-MODIFIED:20250725T182823Z
DTSTART;TZID=America/New_York:20250820T090000
DTEND;TZID=America/New_York:20250820T170000
RDATE;TZID=America/New_York:20250821T090000,20250822T090000
SUMMARY: Harvard University ID Pick-Up
DESCRIPTION: HUID pick-up will be available on Wednesday\, August 20 – Frid
 ay\, August 22 from 9am to 5pm in the WCC Game Room. This is a mandatory ev
 ent for all incoming students.
X-ALT-DESC;FMTTYPE=text/html: <p>HUID pick-up will be available on Wednesda
 y\, August 20 - Friday\, August 22 from 9am to 5pm in the WCC Game Room.</p
 ><p>This is a mandatory event for all incoming students.</p>
LOCATION:WCC\; Game Room
GEO:0.000000;0.000000
ORGANIZER;CN="Kayla Kaszyca":MAILTO:kkaszyca@law.harvard.edu
URL;VALUE=URI:https://hls.harvard.edu/events/harvard-university-id-pick-up/
END:VEVENT
BEGIN:VTIMEZONE
TZID:America/New_York
BEGIN:DAYLIGHT
TZOFFSETFROM:-0500
TZOFFSETTO:-0400
DTSTART:20250309T070000
TZNAME:EDT
END:DAYLIGHT
END:VTIMEZONE
END:VCALENDAR
