BEGIN:VCALENDAR
VERSION:2.0
PRODID:-//Harvard Law School//NONSGML Events//EN
CALSCALE:GREGORIAN
X-WR-CALNAME:Harvard Law School - Events
X-ORIGINAL-URL:https://hls.harvard.edu/calendar/
X-WR-CALDESC:Harvard Law School - Events
BEGIN:VEVENT
UID:20260304T2024Z-1772655891.8537-EO-742598-1@10.73.6.187
STATUS:CONFIRMED
DTSTAMP:20260422T164902Z
CREATED:20260304T191835Z
LAST-MODIFIED:20260304T191835Z
DTSTART;TZID=America/New_York:20260308T090000
DTEND;TZID=America/New_York:20260308T130000
SUMMARY: Harvard Human Rights Journal Spring 2026 Subcite
DESCRIPTION: Mandatory for masthead members. Join the HHRJ for our Spring 2
 026 subcite! Bagels provided courtesy of Lexis and lunch provided courtesy 
 of HHRJ.
X-ALT-DESC;FMTTYPE=text/html: <p>Mandatory for masthead members. Join the H
 HRJ for our Spring 2026 subcite! Bagels provided courtesy of Lexis and lunc
 h provided courtesy of HHRJ.</p>
CATEGORIES:Meeting
LOCATION:WCC 1010
GEO:0.000000;0.000000
ORGANIZER;CN="Jonathan Tucker":MAILTO:jtucker@jd26.law.harvard.edu
URL;VALUE=URI:https://hls.harvard.edu/events/harvard-human-rights-journal-s
 pring-2026-subcite/
END:VEVENT
BEGIN:VTIMEZONE
TZID:America/New_York
BEGIN:STANDARD
TZOFFSETFROM:-0400
TZOFFSETTO:-0500
DTSTART:20251102T060000
TZNAME:EST
END:STANDARD
BEGIN:DAYLIGHT
TZOFFSETFROM:-0500
TZOFFSETTO:-0400
DTSTART:20260308T070000
TZNAME:EDT
END:DAYLIGHT
END:VTIMEZONE
END:VCALENDAR
