BEGIN:VCALENDAR
VERSION:2.0
PRODID:-//Harvard Law School//NONSGML Events//EN
CALSCALE:GREGORIAN
X-WR-CALNAME:Harvard Law School - Events
X-ORIGINAL-URL:https://hls.harvard.edu/calendar/
X-WR-CALDESC:Harvard Law School - Events
BEGIN:VEVENT
UID:20250909T1017Z-1757413041.8996-EO-721579-1@10.73.5.249
STATUS:CONFIRMED
DTSTAMP:20260423T102430Z
CREATED:20250908T162129Z
LAST-MODIFIED:20251028T140420Z
DTSTART;TZID=America/New_York:20250909T113000
DTEND;TZID=America/New_York:20250909T173000
RRULE:FREQ=WEEKLY;INTERVAL=1;BYDAY=TU;UNTIL=20251028T153000Z
SUMMARY: Harvard Farmers’ Market
DESCRIPTION: Join Harvard Common Spaces at the market every Tuesday through
  October 28th\, 11:30 a.m. - 5:30 p.m. and help support the vital local far
 mers and food artisans who ensure we have fresh\, healthy food
X-ALT-DESC;FMTTYPE=text/html: <p>Join <a href="https://commonspaces.harvard
 .edu/" target="_blank" rel="noopener">Harvard Common Spaces</a> at the mark
 et every Tuesday through October 28th\, 11:30 a.m. - 5:30 p.m. and help sup
 port the vital local farmers and food artisans who ensure we have fresh\, h
 ealthy food!</p><p>The market accepts SNAP with a weekly maximum SNAP Match
  of $15.</p><p>June 17\, 2025 - October 28\, 2025. Every Tuesday. 11:30am -
  5:30pm at Harvard's Science Center Plaza (1 Oxford Street\, Cambridge\, MA
  02138).</p><p>For More Info Visit: <a id="LPlnk277647" title="https://www.
 dining.harvard.edu/food-literacy-project/farmers-market" href="https://www.
 dining.harvard.edu/food-literacy-project/farmers-market" data-auth="NotAppl
 icable" data-ogsc="" data-cke-saved-href="https://www.dining.harvard.edu/fo
 od-literacy-project/farmers-market">https://www.dining.harvard.edu/food-lit
 eracy-project/farmers-market</a></p>
LOCATION:Science Center Plaza
GEO:0.000000;0.000000
ORGANIZER;CN="Kayla Kaszyca":MAILTO:kkaszyca@law.harvard.edu
URL;VALUE=URI:https://hls.harvard.edu/events/harvard-farmers-market/
ATTACH;FMTTYPE=image/png:https://hls.harvard.edu/wp-content/uploads/2025/09/GetEventLogo.png
END:VEVENT
BEGIN:VEVENT
UID:20250909T1017Z-1757413041.8996-EO-721579-1@10.73.5.249
STATUS:CONFIRMED
DTSTAMP:20260423T102430Z
CREATED:20250908T162129Z
LAST-MODIFIED:20251028T140420Z
DTSTART;TZID=America/New_York:20250909T113000
DTEND;TZID=America/New_York:20250909T173000
RRULE:FREQ=WEEKLY;INTERVAL=1;BYDAY=TU;UNTIL=20251028T153000Z
SUMMARY: Harvard Farmers’ Market
DESCRIPTION: Join Harvard Common Spaces at the market every Tuesday through
  October 28th\, 11:30 a.m. - 5:30 p.m. and help support the vital local far
 mers and food artisans who ensure we have fresh\, healthy food
X-ALT-DESC;FMTTYPE=text/html: <p>Join <a href="https://commonspaces.harvard
 .edu/" target="_blank" rel="noopener">Harvard Common Spaces</a> at the mark
 et every Tuesday through October 28th\, 11:30 a.m. - 5:30 p.m. and help sup
 port the vital local farmers and food artisans who ensure we have fresh\, h
 ealthy food!</p><p>The market accepts SNAP with a weekly maximum SNAP Match
  of $15.</p><p>June 17\, 2025 - October 28\, 2025. Every Tuesday. 11:30am -
  5:30pm at Harvard's Science Center Plaza (1 Oxford Street\, Cambridge\, MA
  02138).</p><p>For More Info Visit: <a id="LPlnk277647" title="https://www.
 dining.harvard.edu/food-literacy-project/farmers-market" href="https://www.
 dining.harvard.edu/food-literacy-project/farmers-market" data-auth="NotAppl
 icable" data-ogsc="" data-cke-saved-href="https://www.dining.harvard.edu/fo
 od-literacy-project/farmers-market">https://www.dining.harvard.edu/food-lit
 eracy-project/farmers-market</a></p>
LOCATION:Science Center Plaza
GEO:0.000000;0.000000
ORGANIZER;CN="Kayla Kaszyca":MAILTO:kkaszyca@law.harvard.edu
URL;VALUE=URI:https://hls.harvard.edu/events/harvard-farmers-market/
ATTACH;FMTTYPE=image/png:https://hls.harvard.edu/wp-content/uploads/2025/09/GetEventLogo.png
END:VEVENT
BEGIN:VEVENT
UID:20250909T1017Z-1757413041.8996-EO-721579-1@10.73.5.249
STATUS:CONFIRMED
DTSTAMP:20260423T102430Z
CREATED:20250908T162129Z
LAST-MODIFIED:20251028T140420Z
DTSTART;TZID=America/New_York:20250909T113000
DTEND;TZID=America/New_York:20250909T173000
RRULE:FREQ=WEEKLY;INTERVAL=1;BYDAY=TU;UNTIL=20251028T153000Z
SUMMARY: Harvard Farmers’ Market
DESCRIPTION: Join Harvard Common Spaces at the market every Tuesday through
  October 28th\, 11:30 a.m. - 5:30 p.m. and help support the vital local far
 mers and food artisans who ensure we have fresh\, healthy food
X-ALT-DESC;FMTTYPE=text/html: <p>Join <a href="https://commonspaces.harvard
 .edu/" target="_blank" rel="noopener">Harvard Common Spaces</a> at the mark
 et every Tuesday through October 28th\, 11:30 a.m. - 5:30 p.m. and help sup
 port the vital local farmers and food artisans who ensure we have fresh\, h
 ealthy food!</p><p>The market accepts SNAP with a weekly maximum SNAP Match
  of $15.</p><p>June 17\, 2025 - October 28\, 2025. Every Tuesday. 11:30am -
  5:30pm at Harvard's Science Center Plaza (1 Oxford Street\, Cambridge\, MA
  02138).</p><p>For More Info Visit: <a id="LPlnk277647" title="https://www.
 dining.harvard.edu/food-literacy-project/farmers-market" href="https://www.
 dining.harvard.edu/food-literacy-project/farmers-market" data-auth="NotAppl
 icable" data-ogsc="" data-cke-saved-href="https://www.dining.harvard.edu/fo
 od-literacy-project/farmers-market">https://www.dining.harvard.edu/food-lit
 eracy-project/farmers-market</a></p>
LOCATION:Science Center Plaza
GEO:0.000000;0.000000
ORGANIZER;CN="Kayla Kaszyca":MAILTO:kkaszyca@law.harvard.edu
URL;VALUE=URI:https://hls.harvard.edu/events/harvard-farmers-market/
ATTACH;FMTTYPE=image/png:https://hls.harvard.edu/wp-content/uploads/2025/09/GetEventLogo.png
END:VEVENT
BEGIN:VEVENT
UID:20250909T1017Z-1757413041.8996-EO-721579-1@10.73.5.249
STATUS:CONFIRMED
DTSTAMP:20260423T102430Z
CREATED:20250908T162129Z
LAST-MODIFIED:20251028T140420Z
DTSTART;TZID=America/New_York:20250909T113000
DTEND;TZID=America/New_York:20250909T173000
RRULE:FREQ=WEEKLY;INTERVAL=1;BYDAY=TU;UNTIL=20251028T153000Z
SUMMARY: Harvard Farmers’ Market
DESCRIPTION: Join Harvard Common Spaces at the market every Tuesday through
  October 28th\, 11:30 a.m. - 5:30 p.m. and help support the vital local far
 mers and food artisans who ensure we have fresh\, healthy food
X-ALT-DESC;FMTTYPE=text/html: <p>Join <a href="https://commonspaces.harvard
 .edu/" target="_blank" rel="noopener">Harvard Common Spaces</a> at the mark
 et every Tuesday through October 28th\, 11:30 a.m. - 5:30 p.m. and help sup
 port the vital local farmers and food artisans who ensure we have fresh\, h
 ealthy food!</p><p>The market accepts SNAP with a weekly maximum SNAP Match
  of $15.</p><p>June 17\, 2025 - October 28\, 2025. Every Tuesday. 11:30am -
  5:30pm at Harvard's Science Center Plaza (1 Oxford Street\, Cambridge\, MA
  02138).</p><p>For More Info Visit: <a id="LPlnk277647" title="https://www.
 dining.harvard.edu/food-literacy-project/farmers-market" href="https://www.
 dining.harvard.edu/food-literacy-project/farmers-market" data-auth="NotAppl
 icable" data-ogsc="" data-cke-saved-href="https://www.dining.harvard.edu/fo
 od-literacy-project/farmers-market">https://www.dining.harvard.edu/food-lit
 eracy-project/farmers-market</a></p>
LOCATION:Science Center Plaza
GEO:0.000000;0.000000
ORGANIZER;CN="Kayla Kaszyca":MAILTO:kkaszyca@law.harvard.edu
URL;VALUE=URI:https://hls.harvard.edu/events/harvard-farmers-market/
ATTACH;FMTTYPE=image/png:https://hls.harvard.edu/wp-content/uploads/2025/09/GetEventLogo.png
END:VEVENT
BEGIN:VEVENT
UID:20250909T1017Z-1757413041.8996-EO-721579-1@10.73.5.249
STATUS:CONFIRMED
DTSTAMP:20260423T102430Z
CREATED:20250908T162129Z
LAST-MODIFIED:20251028T140420Z
DTSTART;TZID=America/New_York:20250909T113000
DTEND;TZID=America/New_York:20250909T173000
RRULE:FREQ=WEEKLY;INTERVAL=1;BYDAY=TU;UNTIL=20251028T153000Z
SUMMARY: Harvard Farmers’ Market
DESCRIPTION: Join Harvard Common Spaces at the market every Tuesday through
  October 28th\, 11:30 a.m. - 5:30 p.m. and help support the vital local far
 mers and food artisans who ensure we have fresh\, healthy food
X-ALT-DESC;FMTTYPE=text/html: <p>Join <a href="https://commonspaces.harvard
 .edu/" target="_blank" rel="noopener">Harvard Common Spaces</a> at the mark
 et every Tuesday through October 28th\, 11:30 a.m. - 5:30 p.m. and help sup
 port the vital local farmers and food artisans who ensure we have fresh\, h
 ealthy food!</p><p>The market accepts SNAP with a weekly maximum SNAP Match
  of $15.</p><p>June 17\, 2025 - October 28\, 2025. Every Tuesday. 11:30am -
  5:30pm at Harvard's Science Center Plaza (1 Oxford Street\, Cambridge\, MA
  02138).</p><p>For More Info Visit: <a id="LPlnk277647" title="https://www.
 dining.harvard.edu/food-literacy-project/farmers-market" href="https://www.
 dining.harvard.edu/food-literacy-project/farmers-market" data-auth="NotAppl
 icable" data-ogsc="" data-cke-saved-href="https://www.dining.harvard.edu/fo
 od-literacy-project/farmers-market">https://www.dining.harvard.edu/food-lit
 eracy-project/farmers-market</a></p>
LOCATION:Science Center Plaza
GEO:0.000000;0.000000
ORGANIZER;CN="Kayla Kaszyca":MAILTO:kkaszyca@law.harvard.edu
URL;VALUE=URI:https://hls.harvard.edu/events/harvard-farmers-market/
ATTACH;FMTTYPE=image/png:https://hls.harvard.edu/wp-content/uploads/2025/09/GetEventLogo.png
END:VEVENT
BEGIN:VEVENT
UID:20250909T1017Z-1757413041.8996-EO-721579-1@10.73.5.249
STATUS:CONFIRMED
DTSTAMP:20260423T102430Z
CREATED:20250908T162129Z
LAST-MODIFIED:20251028T140420Z
DTSTART;TZID=America/New_York:20250909T113000
DTEND;TZID=America/New_York:20250909T173000
RRULE:FREQ=WEEKLY;INTERVAL=1;BYDAY=TU;UNTIL=20251028T153000Z
SUMMARY: Harvard Farmers’ Market
DESCRIPTION: Join Harvard Common Spaces at the market every Tuesday through
  October 28th\, 11:30 a.m. - 5:30 p.m. and help support the vital local far
 mers and food artisans who ensure we have fresh\, healthy food
X-ALT-DESC;FMTTYPE=text/html: <p>Join <a href="https://commonspaces.harvard
 .edu/" target="_blank" rel="noopener">Harvard Common Spaces</a> at the mark
 et every Tuesday through October 28th\, 11:30 a.m. - 5:30 p.m. and help sup
 port the vital local farmers and food artisans who ensure we have fresh\, h
 ealthy food!</p><p>The market accepts SNAP with a weekly maximum SNAP Match
  of $15.</p><p>June 17\, 2025 - October 28\, 2025. Every Tuesday. 11:30am -
  5:30pm at Harvard's Science Center Plaza (1 Oxford Street\, Cambridge\, MA
  02138).</p><p>For More Info Visit: <a id="LPlnk277647" title="https://www.
 dining.harvard.edu/food-literacy-project/farmers-market" href="https://www.
 dining.harvard.edu/food-literacy-project/farmers-market" data-auth="NotAppl
 icable" data-ogsc="" data-cke-saved-href="https://www.dining.harvard.edu/fo
 od-literacy-project/farmers-market">https://www.dining.harvard.edu/food-lit
 eracy-project/farmers-market</a></p>
LOCATION:Science Center Plaza
GEO:0.000000;0.000000
ORGANIZER;CN="Kayla Kaszyca":MAILTO:kkaszyca@law.harvard.edu
URL;VALUE=URI:https://hls.harvard.edu/events/harvard-farmers-market/
ATTACH;FMTTYPE=image/png:https://hls.harvard.edu/wp-content/uploads/2025/09/GetEventLogo.png
END:VEVENT
BEGIN:VEVENT
UID:20250909T1017Z-1757413041.8996-EO-721579-1@10.73.5.249
STATUS:CONFIRMED
DTSTAMP:20260423T102430Z
CREATED:20250908T162129Z
LAST-MODIFIED:20251028T140420Z
DTSTART;TZID=America/New_York:20250909T113000
DTEND;TZID=America/New_York:20250909T173000
RRULE:FREQ=WEEKLY;INTERVAL=1;BYDAY=TU;UNTIL=20251028T153000Z
SUMMARY: Harvard Farmers’ Market
DESCRIPTION: Join Harvard Common Spaces at the market every Tuesday through
  October 28th\, 11:30 a.m. - 5:30 p.m. and help support the vital local far
 mers and food artisans who ensure we have fresh\, healthy food
X-ALT-DESC;FMTTYPE=text/html: <p>Join <a href="https://commonspaces.harvard
 .edu/" target="_blank" rel="noopener">Harvard Common Spaces</a> at the mark
 et every Tuesday through October 28th\, 11:30 a.m. - 5:30 p.m. and help sup
 port the vital local farmers and food artisans who ensure we have fresh\, h
 ealthy food!</p><p>The market accepts SNAP with a weekly maximum SNAP Match
  of $15.</p><p>June 17\, 2025 - October 28\, 2025. Every Tuesday. 11:30am -
  5:30pm at Harvard's Science Center Plaza (1 Oxford Street\, Cambridge\, MA
  02138).</p><p>For More Info Visit: <a id="LPlnk277647" title="https://www.
 dining.harvard.edu/food-literacy-project/farmers-market" href="https://www.
 dining.harvard.edu/food-literacy-project/farmers-market" data-auth="NotAppl
 icable" data-ogsc="" data-cke-saved-href="https://www.dining.harvard.edu/fo
 od-literacy-project/farmers-market">https://www.dining.harvard.edu/food-lit
 eracy-project/farmers-market</a></p>
LOCATION:Science Center Plaza
GEO:0.000000;0.000000
ORGANIZER;CN="Kayla Kaszyca":MAILTO:kkaszyca@law.harvard.edu
URL;VALUE=URI:https://hls.harvard.edu/events/harvard-farmers-market/
ATTACH;FMTTYPE=image/png:https://hls.harvard.edu/wp-content/uploads/2025/09/GetEventLogo.png
END:VEVENT
BEGIN:VEVENT
UID:20250909T1017Z-1757413041.8996-EO-721579-1@10.73.5.249
STATUS:CONFIRMED
DTSTAMP:20260423T102430Z
CREATED:20250908T162129Z
LAST-MODIFIED:20251028T140420Z
DTSTART;TZID=America/New_York:20250909T113000
DTEND;TZID=America/New_York:20250909T173000
RRULE:FREQ=WEEKLY;INTERVAL=1;BYDAY=TU;UNTIL=20251028T153000Z
SUMMARY: Harvard Farmers’ Market
DESCRIPTION: Join Harvard Common Spaces at the market every Tuesday through
  October 28th\, 11:30 a.m. - 5:30 p.m. and help support the vital local far
 mers and food artisans who ensure we have fresh\, healthy food
X-ALT-DESC;FMTTYPE=text/html: <p>Join <a href="https://commonspaces.harvard
 .edu/" target="_blank" rel="noopener">Harvard Common Spaces</a> at the mark
 et every Tuesday through October 28th\, 11:30 a.m. - 5:30 p.m. and help sup
 port the vital local farmers and food artisans who ensure we have fresh\, h
 ealthy food!</p><p>The market accepts SNAP with a weekly maximum SNAP Match
  of $15.</p><p>June 17\, 2025 - October 28\, 2025. Every Tuesday. 11:30am -
  5:30pm at Harvard's Science Center Plaza (1 Oxford Street\, Cambridge\, MA
  02138).</p><p>For More Info Visit: <a id="LPlnk277647" title="https://www.
 dining.harvard.edu/food-literacy-project/farmers-market" href="https://www.
 dining.harvard.edu/food-literacy-project/farmers-market" data-auth="NotAppl
 icable" data-ogsc="" data-cke-saved-href="https://www.dining.harvard.edu/fo
 od-literacy-project/farmers-market">https://www.dining.harvard.edu/food-lit
 eracy-project/farmers-market</a></p>
LOCATION:Science Center Plaza
GEO:0.000000;0.000000
ORGANIZER;CN="Kayla Kaszyca":MAILTO:kkaszyca@law.harvard.edu
URL;VALUE=URI:https://hls.harvard.edu/events/harvard-farmers-market/
ATTACH;FMTTYPE=image/png:https://hls.harvard.edu/wp-content/uploads/2025/09/GetEventLogo.png
END:VEVENT
BEGIN:VTIMEZONE
TZID:America/New_York
BEGIN:DAYLIGHT
TZOFFSETFROM:-0500
TZOFFSETTO:-0400
DTSTART:20250309T070000
TZNAME:EDT
END:DAYLIGHT
END:VTIMEZONE
END:VCALENDAR
