BEGIN:VCALENDAR
VERSION:2.0
PRODID:-//Harvard Law School//NONSGML Events//EN
CALSCALE:GREGORIAN
X-WR-CALNAME:Harvard Law School - Events
X-ORIGINAL-URL:https://hls.harvard.edu/calendar/
X-WR-CALDESC:Harvard Law School - Events
BEGIN:VEVENT
UID:20250914T0300Z-1757818826.9315-EO-722707-1@10.73.8.255
STATUS:CONFIRMED
DTSTAMP:20260423T224912Z
CREATED:20250912T174232Z
LAST-MODIFIED:20260323T211516Z
DTSTART;TZID=America/New_York:20250928T120000
DTEND;TZID=America/New_York:20250928T160000
SUMMARY: Harvard Business Law Review Fall Subcite
DESCRIPTION: The Harvard Business Law Review is hosting its Fall Subcite on
  Sunday\, September 28th from 12 pm to 4 pm in Milstein East. Lunch will be
  provided.\nPlease RSVP.
X-ALT-DESC;FMTTYPE=text/html: <p>The Harvard Business Law Review is hosting
  its Fall Subcite on Sunday\, September 28th from 12 pm to 4 pm in Milstein
  East. Lunch will be provided.<br />Please RSVP for the event using this li
 nk: https://forms.gle/7TVWqoSFJT7LQwt16</p>
LOCATION:WCC\; 2036 Milstein East BC
GEO:0;0
ORGANIZER;CN="API User":MAILTO:api@law.harvard.edu
URL;VALUE=URI:https://hls.harvard.edu/events/harvard-business-law-review-fa
 ll-subcite-2/
END:VEVENT
BEGIN:VTIMEZONE
TZID:America/New_York
BEGIN:DAYLIGHT
TZOFFSETFROM:-0500
TZOFFSETTO:-0400
DTSTART:20250309T070000
TZNAME:EDT
END:DAYLIGHT
END:VTIMEZONE
END:VCALENDAR
