BEGIN:VCALENDAR
VERSION:2.0
PRODID:-//Harvard Law School//NONSGML Events//EN
CALSCALE:GREGORIAN
X-WR-CALNAME:Harvard Law School - Events
X-ORIGINAL-URL:https://hls.harvard.edu/calendar/
X-WR-CALDESC:Harvard Law School - Events
BEGIN:VEVENT
UID:20241017T1233Z-1729168407.6508-EO-673934-1@10.73.8.211
STATUS:CONFIRMED
DTSTAMP:20260425T081050Z
CREATED:20241016T131507Z
LAST-MODIFIED:20241016T131507Z
DTSTART;TZID=America/New_York:20241029T123000
DTEND;TZID=America/New_York:20241029T131500
SUMMARY: HALB x Vinson & Elkins: Energy Transition and the Rise of AI
DESCRIPTION: Join HALB\, Vinson & Elkins\, and Tailwater Capital on 10/29 a
 t 12:30pm in WCC 1019 for an insightful discussion on AI’s impact on Energy
  Transition. Vinson & Elkins Partners Lande Spottswood and Crosby Scofield\
 , and Tailwater Capital Principal\, John Spradling\, will speak.
X-ALT-DESC;FMTTYPE=text/html: <div class="N0gd6"><div class="cBGGJ OIC90c" 
 dir="auto"><p>Join HALB\, Vinson & Elkins\, and Tailwater Capital on 10/29 
 at 12:30pm in WCC 1019 for an insightful discussion on AI’s impact on Energ
 y Transition. Vinson & Elkins Partners Lande Spottswood and Crosby Scofield
 \, and Tailwater Capital Principal\, John Spradling\, will speak.</p></div>
 </div>
LOCATION:WCC 1019
GEO:0.000000;0.000000
ORGANIZER;CN="Swati Vipperla":MAILTO:svipperla@jd26.law.harvard.edu
URL;VALUE=URI:https://hls.harvard.edu/events/halb-x-vinson-elkins-energy-tr
 ansition-and-the-rise-of-ai/
ATTACH;FMTTYPE=image/png:https://hls.harvard.edu/wp-content/uploads/2024/10/Precedent-Panels.png
END:VEVENT
BEGIN:VTIMEZONE
TZID:America/New_York
BEGIN:DAYLIGHT
TZOFFSETFROM:-0500
TZOFFSETTO:-0400
DTSTART:20240310T070000
TZNAME:EDT
END:DAYLIGHT
END:VTIMEZONE
END:VCALENDAR
