BEGIN:VCALENDAR
VERSION:2.0
PRODID:-//Harvard Law School//NONSGML Events//EN
CALSCALE:GREGORIAN
X-WR-CALNAME:Harvard Law School - Events
X-ORIGINAL-URL:https://hls.harvard.edu/calendar/
X-WR-CALDESC:Harvard Law School - Events
BEGIN:VEVENT
UID:20250917T2305Z-1758150352.5724-EO-723191-1@10.73.0.82
STATUS:CONFIRMED
DTSTAMP:20260423T135640Z
CREATED:20250917T141502Z
LAST-MODIFIED:20251020T125732Z
DTSTART;TZID=America/New_York:20251023T123000
DTEND;TZID=America/New_York:20251023T131500
SUMMARY: HALB x Sidley Austin
DESCRIPTION: Please join HALB & Sidley Austin for an engaging discussion on
  the vast opportunities and diverse practice areas within transactional law
 \, including Mergers & Acquisitions\, Private Equity\, Technology & Life Sc
 iences\, Shareholder Activism & Corporate Defense\, Investment Funds\, Spor
 ts Law\, and Tax. Moderated by partner John Schaff\, this session will feat
 ure associate perspectives from a […]
X-ALT-DESC;FMTTYPE=text/html: <p>Please join HALB & Sidley Austin for an en
 gaging discussion on the vast opportunities and diverse practice areas with
 in transactional law\, including Mergers & Acquisitions\, Private Equity\, 
 Technology & Life Sciences\, Shareholder Activism & Corporate Defense\, Inv
 estment Funds\, Sports Law\, and Tax. Moderated by partner John Schaff\, th
 is session will feature associate perspectives from a range of practice are
 as across Sidley.</p><p>Lunch will be provided.</p>
LOCATION:WCC\; 1019 Classroom
GEO:0;0
ORGANIZER;CN="API User":MAILTO:api@law.harvard.edu
URL;VALUE=URI:https://hls.harvard.edu/events/halb-x-sidley-austin/
END:VEVENT
BEGIN:VTIMEZONE
TZID:America/New_York
BEGIN:DAYLIGHT
TZOFFSETFROM:-0500
TZOFFSETTO:-0400
DTSTART:20250309T070000
TZNAME:EDT
END:DAYLIGHT
END:VTIMEZONE
END:VCALENDAR
