BEGIN:VCALENDAR
VERSION:2.0
PRODID:-//Harvard Law School//NONSGML Events//EN
CALSCALE:GREGORIAN
X-WR-CALNAME:Harvard Law School - Events
X-ORIGINAL-URL:https://hls.harvard.edu/calendar/
X-WR-CALDESC:Harvard Law School - Events
BEGIN:VEVENT
UID:20250910T1747Z-1757526438.549-EO-722123-1@10.73.8.255
STATUS:CONFIRMED
DTSTAMP:20260423T155402Z
CREATED:20250910T131234Z
LAST-MODIFIED:20250910T190503Z
DTSTART;TZID=America/New_York:20250923T123000
DTEND;TZID=America/New_York:20250923T131500
SUMMARY: HALB Shareholder Activism Spotlight
DESCRIPTION: Join HALB for a special event featuring HALB founder and curre
 nt head of K&E Shareholder Activism Defense Shaun Mathew as well as JPMorga
 n Managing Director Duncan Herrington. Lunch will be provided.
X-ALT-DESC;FMTTYPE=text/html: <p>Join HALB for a special event featuring HA
 LB founder and current head of K&E Shareholder Activism Defense Shaun Mathe
 w as well as JPMorgan Managing Director Duncan Herrington. Lunch will be pr
 ovided.</p>
LOCATION:WCC\; 1015 Classroom
GEO:0;0
ORGANIZER;CN="API User":MAILTO:api@law.harvard.edu
URL;VALUE=URI:https://hls.harvard.edu/events/halb-shareholder-activism-spot
 light/
END:VEVENT
BEGIN:VTIMEZONE
TZID:America/New_York
BEGIN:DAYLIGHT
TZOFFSETFROM:-0500
TZOFFSETTO:-0400
DTSTART:20250309T070000
TZNAME:EDT
END:DAYLIGHT
END:VTIMEZONE
END:VCALENDAR
