BEGIN:VCALENDAR
VERSION:2.0
PRODID:-//Harvard Law School//NONSGML Events//EN
CALSCALE:GREGORIAN
X-WR-CALNAME:Harvard Law School - Events
X-ORIGINAL-URL:https://hls.harvard.edu/calendar/
X-WR-CALDESC:Harvard Law School - Events
BEGIN:VEVENT
UID:20260305T0202Z-1772676123.5184-EO-742639-1@10.73.6.187
STATUS:CONFIRMED
DTSTAMP:20260423T055847Z
CREATED:20260305T005232Z
LAST-MODIFIED:20260327T165011Z
DTSTART;TZID=America/New_York:20260402T123000
DTEND;TZID=America/New_York:20260402T131500
SUMMARY: HALB: A Fireside Chat with Eric Peters\, CEO of Coinbase Asset Man
 agement and Founder of One River Asset Management
DESCRIPTION: Join HALB for Day 4 of our conference! Join HALB for an exclus
 ive fireside chat with Eric Peters moderated by Kristina Bunting. Eric is t
 he CEO of Coinbase Asset Management and founder\, CEO and CIO of One River 
 Asset Management. Kristina is a Partner at Paul Weiss and the Co-Chair of t
 he Cryptocurrency & Blockchain […]
X-ALT-DESC;FMTTYPE=text/html: <p>Join HALB for Day 4 of our conference! Joi
 n HALB for an exclusive fireside chat with Eric Peters moderated by Kristin
 a Bunting. Eric is the CEO of Coinbase Asset Management and founder\, CEO a
 nd CIO of One River Asset Management. Kristina is a Partner at Paul Weiss a
 nd the Co-Chair of the Cryptocurrency & Blockchain Practice Group. Eric wil
 l share his story as an entrepreneur in the cryptocurrency space navigating
  an evolving regulatory environment. This event offers a unique opportunity
  to hear directly from experts navigating the forefront of the digital asse
 t revolution. Do not miss this opportunity to gain valuable insights into t
 he strategies and thought processes around developing a new investment mark
 et. </p>
LOCATION:WCC\; 1023 Classroom
GEO:0;0
ORGANIZER;CN="API User":MAILTO:api@law.harvard.edu
URL;VALUE=URI:https://hls.harvard.edu/events/halb-corporate-investigations-
 and-enforcement-risk-in-tomorrows-financial-system/
END:VEVENT
BEGIN:VTIMEZONE
TZID:America/New_York
BEGIN:DAYLIGHT
TZOFFSETFROM:-0500
TZOFFSETTO:-0400
DTSTART:20260308T070000
TZNAME:EDT
END:DAYLIGHT
END:VTIMEZONE
END:VCALENDAR
