BEGIN:VCALENDAR
VERSION:2.0
PRODID:-//Harvard Law School//NONSGML Events//EN
CALSCALE:GREGORIAN
X-WR-CALNAME:Harvard Law School - Events
X-ORIGINAL-URL:https://hls.harvard.edu/calendar/
X-WR-CALDESC:Harvard Law School - Events
BEGIN:VEVENT
UID:20260304T2025Z-1772655900.3376-EO-742596-1@10.73.7.213
STATUS:CONFIRMED
DTSTAMP:20260424T095601Z
CREATED:20260304T190221Z
LAST-MODIFIED:20260304T190221Z
DTSTART;TZID=America/New_York:20260310T110000
DTEND;TZID=America/New_York:20260310T140000
RDATE;TZID=America/New_York:20260311T110000
SUMMARY: Grad Fair
DESCRIPTION: Harvard’s regalia vendor\, Herff Jones\, will be on campus Tue
 sday\, 3/10 and Wednesday\, 3/11 from 11am-2pm at the tables by the Hark ra
 mp for those graduating students who wish to inquire about regalia and othe
 r graduation accoutrements such as announcements\, class rings\, and diplom
 a frames.
X-ALT-DESC;FMTTYPE=text/html: <p><span class="TextRun SCXW236469104 BCX0" l
 ang="EN-US" xml:lang="EN-US" data-contrast="none"><span class="NormalTextRu
 n SCXW236469104 BCX0">Harvard's </span><span class="NormalTextRun SCXW23646
 9104 BCX0">regali</span><span class="NormalTextRun SCXW236469104 BCX0">a ve
 ndor\, Herff Jones\, will be on campus </span></span><span class="TextRun M
 acChromeBold SCXW236469104 BCX0" lang="EN-US" xml:lang="EN-US" data-contras
 t="none"><span class="NormalTextRun SCXW236469104 BCX0">Tues</span><span cl
 ass="NormalTextRun SCXW236469104 BCX0">day</span><span class="NormalTextRun
  SCXW236469104 BCX0">\, 3/10 and Wed</span><span class="NormalTextRun SCXW2
 36469104 BCX0">nesday</span><span class="NormalTextRun SCXW236469104 BCX0">
 \, 3/11 from 11am-2pm at the tables by the Hark ramp</span></span><span cla
 ss="TextRun SCXW236469104 BCX0" lang="EN-US" xml:lang="EN-US" data-contrast
 ="none"><span class="NormalTextRun SCXW236469104 BCX0"> for those graduatin
 g students who wish to inquire about regalia and other graduation accoutrem
 ents such as announcements\, class rings\, and diploma frames.</span></span
 ></p>
LOCATION:WCC Ramp up to Hark
GEO:0.000000;0.000000
ORGANIZER;CN="Kayla Kaszyca":MAILTO:kkaszyca@law.harvard.edu
URL;VALUE=URI:https://hls.harvard.edu/events/grad-fair/
END:VEVENT
BEGIN:VEVENT
UID:20260304T2025Z-1772655900.3376-EO-742596-1@10.73.7.213
STATUS:CONFIRMED
DTSTAMP:20260424T095601Z
CREATED:20260304T190221Z
LAST-MODIFIED:20260304T190221Z
DTSTART;TZID=America/New_York:20260310T110000
DTEND;TZID=America/New_York:20260310T140000
RDATE;TZID=America/New_York:20260311T110000
SUMMARY: Grad Fair
DESCRIPTION: Harvard’s regalia vendor\, Herff Jones\, will be on campus Tue
 sday\, 3/10 and Wednesday\, 3/11 from 11am-2pm at the tables by the Hark ra
 mp for those graduating students who wish to inquire about regalia and othe
 r graduation accoutrements such as announcements\, class rings\, and diplom
 a frames.
X-ALT-DESC;FMTTYPE=text/html: <p><span class="TextRun SCXW236469104 BCX0" l
 ang="EN-US" xml:lang="EN-US" data-contrast="none"><span class="NormalTextRu
 n SCXW236469104 BCX0">Harvard's </span><span class="NormalTextRun SCXW23646
 9104 BCX0">regali</span><span class="NormalTextRun SCXW236469104 BCX0">a ve
 ndor\, Herff Jones\, will be on campus </span></span><span class="TextRun M
 acChromeBold SCXW236469104 BCX0" lang="EN-US" xml:lang="EN-US" data-contras
 t="none"><span class="NormalTextRun SCXW236469104 BCX0">Tues</span><span cl
 ass="NormalTextRun SCXW236469104 BCX0">day</span><span class="NormalTextRun
  SCXW236469104 BCX0">\, 3/10 and Wed</span><span class="NormalTextRun SCXW2
 36469104 BCX0">nesday</span><span class="NormalTextRun SCXW236469104 BCX0">
 \, 3/11 from 11am-2pm at the tables by the Hark ramp</span></span><span cla
 ss="TextRun SCXW236469104 BCX0" lang="EN-US" xml:lang="EN-US" data-contrast
 ="none"><span class="NormalTextRun SCXW236469104 BCX0"> for those graduatin
 g students who wish to inquire about regalia and other graduation accoutrem
 ents such as announcements\, class rings\, and diploma frames.</span></span
 ></p>
LOCATION:WCC Ramp up to Hark
GEO:0.000000;0.000000
ORGANIZER;CN="Kayla Kaszyca":MAILTO:kkaszyca@law.harvard.edu
URL;VALUE=URI:https://hls.harvard.edu/events/grad-fair/
END:VEVENT
BEGIN:VTIMEZONE
TZID:America/New_York
BEGIN:DAYLIGHT
TZOFFSETFROM:-0500
TZOFFSETTO:-0400
DTSTART:20260308T070000
TZNAME:EDT
END:DAYLIGHT
END:VTIMEZONE
END:VCALENDAR
