BEGIN:VCALENDAR
VERSION:2.0
PRODID:-//Harvard Law School//NONSGML Events//EN
CALSCALE:GREGORIAN
X-WR-CALNAME:Harvard Law School - Events
X-ORIGINAL-URL:https://hls.harvard.edu/calendar/
X-WR-CALDESC:Harvard Law School - Events
BEGIN:VEVENT
UID:20250210T1907Z-1739214459.6495-EO-688726-1@10.73.8.229
STATUS:CONFIRMED
DTSTAMP:20260424T103008Z
CREATED:20250210T142411Z
LAST-MODIFIED:20250210T142411Z
DTSTART;TZID=America/New_York:20250211T123000
DTEND;TZID=America/New_York:20250211T133000
SUMMARY: Getting to Know Davis Polk NorCal!
DESCRIPTION: Ever thought about working in the Bay Area? Join HLS West Coas
 t Club and top firm Davis Polk for a Q&A with Northern California attorneys
 . Gain insights into their careers and experiences at their Redwood City of
 fice and San Francisco workspace!
X-ALT-DESC;FMTTYPE=text/html: <p>Ever thought about working in the Bay Area
 ? Join HLS West Coast Club and top firm Davis Polk for a Q&A with Northern 
 California attorneys. Gain insights into their careers and experiences at t
 heir Redwood City office and San Francisco workspace!</p>
CATEGORIES:Career Event
LOCATION:WCC\; 3034 Room
GEO:0;0
ORGANIZER;CN="Amber Massey":MAILTO:amassey@jd26.law.harvard.edu
URL;VALUE=URI:https://hls.harvard.edu/events/getting-to-know-davis-polk-nor
 cal/
ATTACH;FMTTYPE=image/png:https://hls.harvard.edu/wp-content/uploads/2025/02/WCC-Davis-Polk-NorCal-QA-2.11.png
END:VEVENT
BEGIN:VTIMEZONE
TZID:America/New_York
BEGIN:STANDARD
TZOFFSETFROM:-0400
TZOFFSETTO:-0500
DTSTART:20241103T060000
TZNAME:EST
END:STANDARD
END:VTIMEZONE
END:VCALENDAR
